BEGIN:VCALENDAR
VERSION:2.0
PRODID:-//ChamberMaster//Event Calendar 2.0//EN
METHOD:PUBLISH
X-PUBLISHED-TTL:P3D
REFRESH-INTERVAL:P3D
CALSCALE:GREGORIAN
BEGIN:VEVENT
DTSTART:20151018T030000Z
DTEND:20151017T070000Z
X-MICROSOFT-CDO-ALLDAYEVENT:FALSE
SUMMARY:ROSANNE CASH
DESCRIPTION:Rosanne Cash\nwith John Leventhal\n\nRosanne Cash is often classified as a country artist\, but her music really draws on many genres\, including folk\, pop\, rock and blues. In the 1980s\, she had a string of chart-topping singles\, which crossed musical genres and landed on the country and pop charts\, the most successful being her 1981 breakthrough hit\, “Seven Year Ache.” In 2014\, Cash released “The River and The Thread\,” perhaps the most critically admired album of her distinguished career. It won three Grammy Awards last February: Best Americana Album\, and Best American Roots Song and Best American Roots Performance for “A Feather's Not a Bird.”\nContact :	Gallo Center\nPhone :	209-338-2100\nEmail :	\nWeb Site :	galloarts.org
X-ALT-DESC;FMTTYPE=text/html:Rosanne Cash\nwith John Leventhal\n\nRosanne Cash is often classified as a country artist\, but her music really draws on many genres\, including folk\, pop\, rock and blues. In the 1980s\, she had a string of chart-topping singles\, which crossed musical genres and landed on the country and pop charts\, the most successful being her 1981 breakthrough hit\, “Seven Year Ache.” In 2014\, Cash released “The River and The Thread\,” perhaps the most critically admired album of her distinguished career. It won three Grammy Awards last February: Best Americana Album\, and Best American Roots Song and Best American Roots Performance for “A Feather's Not a Bird.”\nContact :	Gallo Center\nPhone :	209-338-2100\nEmail :	\nWeb Site :	galloarts.org\n
LOCATION:Gallo Center 1000 I St Modesto\, CA 95354
UID:e.2695.1232
SEQUENCE:3
DTSTAMP:20260419T230515Z
URL:https://business.modchamber.org/events/details/rosanne-cash-10-17-2015-1232
END:VEVENT

END:VCALENDAR
