BEGIN:VCALENDAR
VERSION:2.0
PRODID:-//ChamberMaster//Event Calendar 2.0//EN
METHOD:PUBLISH
X-PUBLISHED-TTL:P3D
REFRESH-INTERVAL:P3D
CALSCALE:GREGORIAN
BEGIN:VEVENT
DTSTART:20150409T020000Z
DTEND:20150408T070000Z
X-MICROSOFT-CDO-ALLDAYEVENT:FALSE
SUMMARY:Roberto Tapia
DESCRIPTION:Regional Mexican singer Roberto Tapia is headed for the Gallo Center! Renowned for his incredible vocal performances and the festive\, party-like atmosphere of his live concerts\, Tapia hails from San Diego but was raised in Sinola\, Mexico. At age 11\, the future musician entered Difocur\, a prestigious music school where he studied clarinet. While mastering the clarinet\, Tapia was still reluctant to showcase his talents. But after coaxing from friend and family\, Tapia began performing at various dancehalls and receptions. At 17\, he made his professional debut in Tijuana\, Mexico alongside the Lobito de Sinaloa. Among his hit albums is “El Muchacho\,” released in 2012\, which hit #1 on Billboard’s Top Latin Albums chart. Tapia also is one of the coaches on “La Voz Kids\,” a Spanish-language version of “The Voice\,” which airs on the Telemundo Network.\nContact :	Gallo Center\nPhone :	209-338-2100\nEmail :	\nWeb Site :	galloarts.org
X-ALT-DESC;FMTTYPE=text/html:Regional Mexican singer Roberto Tapia is headed for the Gallo Center! Renowned for his incredible vocal performances and the festive\, party-like atmosphere of his live concerts\, Tapia hails from San Diego but was raised in Sinola\, Mexico. At age 11\, the future musician entered Difocur\, a prestigious music school where he studied clarinet. While mastering the clarinet\, Tapia was still reluctant to showcase his talents. But after coaxing from friend and family\, Tapia began performing at various dancehalls and receptions. At 17\, he made his professional debut in Tijuana\, Mexico alongside the Lobito de Sinaloa. Among his hit albums is “El Muchacho\,” released in 2012\, which hit #1 on Billboard’s Top Latin Albums chart. Tapia also is one of the coaches on “La Voz Kids\,” a Spanish-language version of “The Voice\,” which airs on the Telemundo Network.\nContact :	Gallo Center\nPhone :	209-338-2100\nEmail :	\nWeb Site :	galloarts.org
LOCATION:Gallo Center 1000 I Street Modesto\, CA 95354
UID:e.2695.840
SEQUENCE:3
DTSTAMP:20260420T062753Z
URL:https://business.modchamber.org/events/details/roberto-tapia-04-08-2015-840
END:VEVENT

END:VCALENDAR
