BEGIN:VCALENDAR
VERSION:2.0
PRODID:-//ChamberMaster//Event Calendar 2.0//EN
METHOD:PUBLISH
X-PUBLISHED-TTL:P3D
REFRESH-INTERVAL:P3D
CALSCALE:GREGORIAN
BEGIN:VEVENT
DTSTART:20150530T020000Z
DTEND:20150529T070000Z
X-MICROSOFT-CDO-ALLDAYEVENT:FALSE
SUMMARY:Robben Ford Guitar Virtuoso
DESCRIPTION:Robben Ford is one of the premier electric guitarists today\, known equally for his blues\, jazz and rock playing\, as he is for his outstanding musicianship. A five-time Grammy nominee with 35 albums under his own name\, Ford has played with artists as diverse as Joni Mitchell\, Miles Davis\, George Harrison\, Phil Lesh\, Bonnie Raitt\, Bob Dylan\, John Mayall\, Greg Allman\, Susan Tedeschi\, Brad Paisley\, and many others. Robben’s 1988 release for Warner Brothers\, Talk to Your Daughter\, brought his first Grammy nomination (Best Contemporary Blues Recording)\, and he started touring the world under his own name. Not surprisingly\, he was named one of the "100 Greatest Guitarists of the 20th Century" by Musician magazine. His latest album\, Into The Sun\, shines a bright light on his songwriting and stunning playing\, and follows last year’s critically acclaimed A Day in Nashville and 2013’s Bringing It Back Home.\nDoors at 7\; show at 8 p.m. \nTickets are $24\, $29and $38\nContact :	The State Theatre\nPhone :	BOX OFFICE (209) 527-4697\nEmail :	\nWeb Site :	thestate.org
X-ALT-DESC;FMTTYPE=text/html:	Robben Ford is one of the premier electric guitarists today\, known equally for his blues\, jazz and rock playing\, as he is for his outstanding musicianship. A five-time Grammy nominee with 35 albums under his own name\, Ford has played with artists as diverse as Joni Mitchell\, Miles Davis\, George Harrison\, Phil Lesh\, Bonnie Raitt\, Bob Dylan\, John Mayall\, Greg Allman\, Susan Tedeschi\, Brad Paisley\, and many others. Robben’s 1988 release for Warner Brothers\, Talk to Your Daughter\, brought his first Grammy nomination (Best Contemporary Blues Recording)\, and he started touring the world under his own name. Not surprisingly\, he was named one of the "100 Greatest Guitarists of the 20th Century" by Musician magazine. His latest album\, Into The Sun\, shines a bright light on his songwriting and stunning playing\, and follows last year’s critically acclaimed A Day in Nashville and 2013’s Bringing It Back Home.\nDoors at 7\; show at 8 p.m. \nTickets are $24\, $29and $38\nContact :	The State Theatre\nPhone :	BOX OFFICE (209) 527-4697\nEmail :	\nWeb Site :	thestate.org
LOCATION:The State Theatre 1307 J St Modesto\, CA 95354
UID:e.2695.947
SEQUENCE:3
DTSTAMP:20260420T045526Z
URL:https://business.modchamber.org/events/details/robben-ford-guitar-virtuoso-05-29-2015-947
END:VEVENT

END:VCALENDAR
