BEGIN:VCALENDAR
VERSION:2.0
PRODID:-//ChamberMaster//Event Calendar 2.0//EN
METHOD:PUBLISH
X-PUBLISHED-TTL:P3D
REFRESH-INTERVAL:P3D
CALSCALE:GREGORIAN
BEGIN:VEVENT
DTSTART:20150704T030000Z
DTEND:20150703T070000Z
X-MICROSOFT-CDO-ALLDAYEVENT:FALSE
SUMMARY:Rob Thomas
DESCRIPTION:Rob Thomas has been one of modern music’s most compelling and commercially successful artists for well over a decade – between Matchbox Twenty\, his solo work\, and his various collaborations with iconic artists like Santana\, Mick Jagger and Willie Nelson\, his tally now stands at more than 80 million albums sold worldwide. Arguably the most accomplished singer/songwriter of his generation\, it all comes back to the creative source for Rob. As he says with typical understatement\, “I’m a guy who hears songs in his head\, and I have to write them down\, and I have to get them out. I’m just lucky enough that I can make it my life’s work.” \n\nOPENING ACT: PLAIN WHITE T'S\nContact :	Gallo Center\nPhone :	209-338-2100\nEmail :	\nWeb Site :	galloarts.org
X-ALT-DESC;FMTTYPE=text/html:Rob Thomas has been one of modern music’s most compelling and commercially successful artists for well over a decade – between Matchbox Twenty\, his solo work\, and his various collaborations with iconic artists like Santana\, Mick Jagger and Willie Nelson\, his tally now stands at more than 80 million albums sold worldwide. Arguably the most accomplished singer/songwriter of his generation\, it all comes back to the creative source for Rob. As he says with typical understatement\, “I’m a guy who hears songs in his head\, and I have to write them down\, and I have to get them out. I’m just lucky enough that I can make it my life’s work.” \n\nOPENING ACT: PLAIN WHITE T'S\nContact :	Gallo Center\nPhone :	209-338-2100\nEmail :	\nWeb Site :	galloarts.org
LOCATION:Gallo Center 1000 I St Modesto\, CA 95354
UID:e.2695.1021
SEQUENCE:3
DTSTAMP:20260420T015103Z
URL:https://business.modchamber.org/events/details/rob-thomas-07-03-2015-1021
END:VEVENT

END:VCALENDAR
