BEGIN:VCALENDAR
VERSION:2.0
PRODID:-//ChamberMaster//Event Calendar 2.0//EN
METHOD:PUBLISH
X-PUBLISHED-TTL:P3D
REFRESH-INTERVAL:P3D
CALSCALE:GREGORIAN
BEGIN:VEVENT
DTSTART:20250402T000000Z
DTEND:20250402T013000Z
X-MICROSOFT-CDO-ALLDAYEVENT:FALSE
SUMMARY:Rising Professionals Evening Social
DESCRIPTION:Join us for the "Rising Professionals: Evening Social\," an event designed to foster networking and connections among local professionals. This relaxed evening gathering provides an excellent opportunity to meet and engage with fellow professionals in a casual setting. Enjoy light refreshments and beverages while expanding your professional network.\n\nWhat to Expect:\n\n\n	\n	Networking Opportunities: Connect with like-minded professionals from various fields. Build your professional network\, exchange ideas\, and foster relationships that can support your career growth.\n	\n	\n	Casual Environment: Enjoy a relaxed and informal atmosphere where you can engage in meaningful conversations with other local professionals. Whether you want to make new connections or strengthen existing ones\, this is the perfect setting.\n	\n	\n	Community Building: Be part of a community of rising professionals supporting one another's career development. Share your experiences\, learn from others\, and explore potential collaborations.\n	\n\n\nWhy Attend?\n\n\n	Expand Your Network: Meet and connect with other local professionals\, opening doors to new opportunities and collaborations.\n	Relax and Unwind: Enjoy an evening of socializing casually and comfortably.\n	Community Engagement: Become part of a supportive community of professionals committed to mutual growth and success.\n\n\nRegistration Details:\n\nDon't miss this opportunity to network and connect. Register now to secure your spot and enjoy an evening of engaging conversations and new connections.
X-ALT-DESC;FMTTYPE=text/html:<h3><span style="font-size: 13px\;">Join us for the &quot\;Rising Professionals: Evening Social\,&quot\; an event designed to foster networking and connections among local professionals. This relaxed evening gathering provides an excellent opportunity to meet and engage with fellow professionals in a casual setting. Enjoy light refreshments and beverages while expanding your professional network.</span></h3>\n\n<h4>What to Expect:</h4>\n\n<ul>\n	<li>\n	<p><strong>Networking Opportunities:</strong> Connect with like-minded professionals from various fields. Build your professional network\, exchange ideas\, and foster relationships that can support your career growth.</p>\n	</li>\n	<li>\n	<p><strong>Casual Environment:</strong> Enjoy a relaxed and informal atmosphere where you can engage in meaningful conversations with other local professionals. Whether you want to make new connections or strengthen existing ones\, this is the perfect setting.</p>\n	</li>\n	<li>\n	<p><strong>Community Building:</strong> Be part of a community of rising professionals supporting one another&#39\;s career development. Share your experiences\, learn from others\, and explore potential collaborations.</p>\n	</li>\n</ul>\n\n<h4>Why Attend?</h4>\n\n<ul>\n	<li><strong>Expand Your Network:</strong> Meet and connect with other local professionals\, opening doors to new opportunities and collaborations.</li>\n	<li><strong>Relax and Unwind:</strong> Enjoy an evening of socializing casually and comfortably.</li>\n	<li><strong>Community Engagement:</strong> Become part of a supportive community of professionals committed to mutual growth and success.</li>\n</ul>\n\n<h4>Registration Details:</h4>\n\n<p>Don&rsquo\;t miss this opportunity to network and connect. <strong>Register now</strong> to secure your spot and enjoy an evening of engaging conversations and new connections.</p>\n\n<h4>&nbsp\;</h4>\n
LOCATION:D' Forno Cocina 918 13th St\, Modesto\, CA 95354
UID:e.2695.11136
SEQUENCE:3
DTSTAMP:20260426T012332Z
URL:https://business.modchamber.org/events/details/rising-professionals-evening-social-11136
END:VEVENT

END:VCALENDAR
