BEGIN:VCALENDAR
VERSION:2.0
PRODID:-//ChamberMaster//Event Calendar 2.0//EN
METHOD:PUBLISH
X-PUBLISHED-TTL:P3D
REFRESH-INTERVAL:P3D
CALSCALE:GREGORIAN
BEGIN:VEVENT
DTSTART:20160131T220000Z
DTEND:20160131T080000Z
X-MICROSOFT-CDO-ALLDAYEVENT:FALSE
SUMMARY:RIDERS IN THE SKY
DESCRIPTION:A Tribute to Roy Rogers \n\nBy definition\, empirical data and critical acclaim\, they stand "hats and shoulders" above the rest of the purveyors of C&W: "Comedy & Western!" For more than 30 years Riders in The Sky have been remained true to the integrity of Western music\, and they have themselves become modern-day icons by branding the genre with their own legendary wacky humor and way-out Western wit\, and all along encouraging buckaroos and buckarettes to live life "The Cowboy Way!" Join us for this terrific tribute to The King of the Cowboys\, Roy Rogers!\nContact :	Gallo Center\nPhone :	209-338-2100\nEmail :	\nWeb Site :	galloarts.org
X-ALT-DESC;FMTTYPE=text/html:A Tribute to Roy Rogers \n\nBy definition\, empirical data and critical acclaim\, they stand "hats and shoulders" above the rest of the purveyors of C&W: "Comedy & Western!" For more than 30 years Riders in The Sky have been remained true to the integrity of Western music\, and they have themselves become modern-day icons by branding the genre with their own legendary wacky humor and way-out Western wit\, and all along encouraging buckaroos and buckarettes to live life "The Cowboy Way!" Join us for this terrific tribute to The King of the Cowboys\, Roy Rogers!\nContact :	Gallo Center\nPhone :	209-338-2100\nEmail :	\nWeb Site :	galloarts.org
LOCATION:Gallo Center 1000 I St Modesto\, CA 95354
UID:e.2695.1354
SEQUENCE:3
DTSTAMP:20260419T174809Z
URL:https://business.modchamber.org/events/details/riders-in-the-sky-01-31-2016-1354
END:VEVENT

END:VCALENDAR
