BEGIN:VCALENDAR
VERSION:2.0
PRODID:-//ChamberMaster//Event Calendar 2.0//EN
METHOD:PUBLISH
X-PUBLISHED-TTL:P3D
REFRESH-INTERVAL:P3D
CALSCALE:GREGORIAN
BEGIN:VEVENT
DTSTART:20150510T020000Z
DTEND:20150509T070000Z
X-MICROSOFT-CDO-ALLDAYEVENT:FALSE
SUMMARY:Ride For Mom
DESCRIPTION:72 Miles: 6-6:45 a.m. (must leave by 7 a.m. or before)\,\n30 Miles: 6:30-8:45 a.m. (must leave by 9 a.m. or before)\, \n10 Miles: 7:30-9:45 a.m. (must leave by 10:00 a.m. or before)\nContact :	\nPhone :	\nEmail :	info@rideformom.com\nWeb Site :	www\,rideformom.com
X-ALT-DESC;FMTTYPE=text/html:	72 Miles: 6-6:45 a.m. (must leave by 7 a.m. or before)\,\n30 Miles: 6:30-8:45 a.m. (must leave by 9 a.m. or before)\, \n10 Miles: 7:30-9:45 a.m. (must leave by 10:00 a.m. or before)\nContact :	\nPhone :	\nEmail :	info@rideformom.com\nWeb Site :	www\,rideformom.com
LOCATION:Johansen High School 641 Norseman Dr Modesto\, CA 95357
UID:e.2695.927
SEQUENCE:3
DTSTAMP:20260420T045331Z
URL:https://business.modchamber.org/events/details/ride-for-mom-05-09-2015-927
END:VEVENT

END:VCALENDAR
