BEGIN:VCALENDAR
VERSION:2.0
PRODID:-//ChamberMaster//Event Calendar 2.0//EN
METHOD:PUBLISH
X-PUBLISHED-TTL:P3D
REFRESH-INTERVAL:P3D
CALSCALE:GREGORIAN
BEGIN:VEVENT
DTSTART:20140517T153000Z
DTEND:20140517T070000Z
X-MICROSOFT-CDO-ALLDAYEVENT:FALSE
SUMMARY:Ride 4 Rescue
DESCRIPTION:Ride for a great cause and join Modesto Gospel Mission for a scenic drive through Coulterville\, up to Greeley Hill! $25 per Rider\, $15 Per Passenger \n8\;30-9:30 Kick-off\, Blessingof Bikes & Breakfastat Modesto Gospel Mission. \nRide on Yosemite Bl/132 East through Coulterville\, Continue on GreeleyHill Road\, Turn Left on Fiske Road. The Community Center will be on your right. \n11:30 BBQ Lunch! Live Music! Prize Drawings! \nFor more info or to register call Garrison 209-225-2951
X-ALT-DESC;FMTTYPE=text/html:Ride for a great cause and join Modesto Gospel Mission for a scenic drive through Coulterville\, up to Greeley Hill! $25 per Rider\, $15 Per Passenger \n8\;30-9:30 Kick-off\, Blessingof Bikes & Breakfastat Modesto Gospel Mission. \nRide on Yosemite Bl/132 East through Coulterville\, Continue on GreeleyHill Road\, Turn Left on Fiske Road. The Community Center will be on your right. \n11:30 BBQ Lunch! Live Music! Prize Drawings! \nFor more info or to register call Garrison 209-225-2951\n
LOCATION:Modesto Gospel Mission 1400 Yosemite Blvd. Modesto\, CA 95354
UID:e.2695.433
SEQUENCE:3
DTSTAMP:20260423T001304Z
URL:https://business.modchamber.org/events/details/ride-4-rescue-05-17-2014-433
END:VEVENT

END:VCALENDAR
