BEGIN:VCALENDAR
VERSION:2.0
PRODID:-//ChamberMaster//Event Calendar 2.0//EN
METHOD:PUBLISH
X-PUBLISHED-TTL:P3D
REFRESH-INTERVAL:P3D
CALSCALE:GREGORIAN
BEGIN:VEVENT
DTSTART:20151001T023000Z
DTEND:20150930T070000Z
X-MICROSOFT-CDO-ALLDAYEVENT:FALSE
SUMMARY:RICHARD MARX
DESCRIPTION:Singer\, songwriter\, musician\, and producer Richard Marx has made history with a string of indelible hits that span both radio-ready rock tunes like “Don’t Mean Nothing” and “Should’ve Known Better\,” and stirring romantic ballads like “Hold Onto The Nights” and “Right Here Waiting.” The Chicago native has sold more than 30 million albums and scored a total of 14 No. 1 singles. He is the only male solo artist to have his first seven singles reach the Top 5 on the Billboard charts. Quite simply\, Marx has created the soundtrack to the most memorable moments in people’s lives.\nContact :	Gallo Center\nPhone :	209-338-2100\nEmail :	\nWeb Site :	galloarts.org
X-ALT-DESC;FMTTYPE=text/html:Singer\, songwriter\, musician\, and producer Richard Marx has made history with a string of indelible hits that span both radio-ready rock tunes like “Don’t Mean Nothing” and “Should’ve Known Better\,” and stirring romantic ballads like “Hold Onto The Nights” and “Right Here Waiting.” The Chicago native has sold more than 30 million albums and scored a total of 14 No. 1 singles. He is the only male solo artist to have his first seven singles reach the Top 5 on the Billboard charts. Quite simply\, Marx has created the soundtrack to the most memorable moments in people’s lives.\nContact :	Gallo Center\nPhone :	209-338-2100\nEmail :	\nWeb Site :	galloarts.org
LOCATION:Gallo Center 1000 I St Modesto\, CA 95354
UID:e.2695.1180
SEQUENCE:3
DTSTAMP:20260419T230643Z
URL:https://business.modchamber.org/events/details/richard-marx-09-30-2015-1180
END:VEVENT

END:VCALENDAR
