BEGIN:VCALENDAR
VERSION:2.0
PRODID:-//ChamberMaster//Event Calendar 2.0//EN
METHOD:PUBLISH
X-PUBLISHED-TTL:P3D
REFRESH-INTERVAL:P3D
CALSCALE:GREGORIAN
BEGIN:VEVENT
DTSTART:20140625T180000Z
DTEND:20140625T183000Z
X-MICROSOFT-CDO-ALLDAYEVENT:FALSE
SUMMARY:Ribbon Cutting - Verizon Wireless - Business Sales
DESCRIPTION:A ribbon cutting is held to announce to the Central Valley that a business is a new member of the Modesto Chamber of Commerce!  This celebration may mark the beginning of their relationship with us\, the grand opening of their new business\, the opening of an additional location\, or the completion of their recent remodel.  Ribbon cuttings are attended by friends and collegues of the respective business\, Chamber of Commerce Board and staff members\, and the Chamber Welcome Team.  The event is often recognized by the area's elected officials.  All are welcome to join us as the Chamber proudly recognizes member-businesses for their economic contribution to our community.
X-ALT-DESC;FMTTYPE=text/html:A ribbon cutting is held to announce to the Central Valley that a business is a new member of the Modesto Chamber of Commerce!  This celebration may mark the beginning of their relationship with us\, the grand opening of their new business\, the opening of an additional location\, or the completion of their recent remodel.  Ribbon cuttings are attended by friends and collegues of the respective business\, Chamber of Commerce Board and staff members\, and the Chamber Welcome Team.  The event is often recognized by the area's elected officials.  All are welcome to join us as the Chamber proudly recognizes member-businesses for their economic contribution to our community.
LOCATION:Verizon Wireless - Business Sales 4260 Sisk Road\, Suite A Modesto\, CA 95356
UID:e.2695.483
SEQUENCE:3
DTSTAMP:20260423T002934Z
URL:https://business.modchamber.org/events/details/ribbon-cutting-verizon-wireless-business-sales-06-25-2014-483
END:VEVENT

END:VCALENDAR
