BEGIN:VCALENDAR
VERSION:2.0
PRODID:-//ChamberMaster//Event Calendar 2.0//EN
METHOD:PUBLISH
X-PUBLISHED-TTL:P3D
REFRESH-INTERVAL:P3D
CALSCALE:GREGORIAN
BEGIN:VEVENT
DTSTART:20150518T173000Z
DTEND:20150518T183000Z
X-MICROSOFT-CDO-ALLDAYEVENT:FALSE
SUMMARY:Ribbon Cutting - United Cerebal Palsy of Stanislaus
DESCRIPTION:You are cordially invited to the Ground Breaking Ceremony of this oneof a kind “Community Garden for the Disabled”. The garden will be unique tothe Central Valley. Wheelchair accessibleplanter boxes where those with disabilities willhave the chance to plant\, cultivate\, and harvest the fruits of their labor.   When:     May 18\, 2015Where:    SOS Club (Roselawn Ave\, back side of SOS)Time:      10:30am – Ground Breaking                11:00am – Reception A Special Thanks To our Sponsors:                                        Please RSVP To: Sarah Konold at:   skonold@ucpstan.org 209-577-2122 x140
X-ALT-DESC;FMTTYPE=text/html:<P class=MsoNormal style="MARGIN: 0in 0in 0pt"><B style="mso-bidi-font-weight: normal"><SPAN style="FONT-SIZE: 24pt\; LINE-HEIGHT: 115%\; FONT-FAMILY: 'Brush Script MT'">You are cordially invited to the <?xml:namespace prefix = o ns = "urn:schemas-microsoft-com:office:office" /><o:p></o:p></SPAN></B></P><P class=MsoNormal style="MARGIN: 0in 0in 0pt"><B style="mso-bidi-font-weight: normal"><SPAN style="FONT-SIZE: 24pt\; LINE-HEIGHT: 115%\; FONT-FAMILY: 'Brush Script MT'">Ground Breaking Ceremony of this one<o:p></o:p></SPAN></B></P><P class=MsoNormal style="MARGIN: 0in 0in 0pt"><B style="mso-bidi-font-weight: normal"><SPAN style="FONT-SIZE: 24pt\; LINE-HEIGHT: 115%\; FONT-FAMILY: 'Brush Script MT'">of a kind “Community Garden for the <o:p></o:p></SPAN></B></P><P class=MsoNormal style="MARGIN: 0in 0in 0pt"><B style="mso-bidi-font-weight: normal"><SPAN style="FONT-SIZE: 24pt\; LINE-HEIGHT: 115%\; FONT-FAMILY: 'Brush Script MT'">Disabled”. The garden will be unique to<o:p></o:p></SPAN></B></P><P class=MsoNormal style="MARGIN: 0in 0in 0pt"><B style="mso-bidi-font-weight: normal"><SPAN style="FONT-SIZE: 24pt\; LINE-HEIGHT: 115%\; FONT-FAMILY: 'Brush Script MT'">the Central Valley. Wheelchair accessible<o:p></o:p></SPAN></B></P><P class=MsoNormal style="MARGIN: 0in 0in 0pt"><B style="mso-bidi-font-weight: normal"><SPAN style="FONT-SIZE: 24pt\; LINE-HEIGHT: 115%\; FONT-FAMILY: 'Brush Script MT'">planter boxes where those with disabilities will<o:p></o:p></SPAN></B></P><P class=MsoNormal style="MARGIN: 0in 0in 0pt"><B style="mso-bidi-font-weight: normal"><SPAN style="FONT-SIZE: 24pt\; LINE-HEIGHT: 115%\; FONT-FAMILY: 'Brush Script MT'">have the chance to plant\, cultivate\, and harvest the fruits of their labor</SPAN></B><SPAN style="FONT-SIZE: 18pt\; LINE-HEIGHT: 115%">.<SPAN style="mso-spacerun: yes">&nbsp\; </SPAN><o:p></o:p></SPAN></P><P class=MsoNormal style="MARGIN: 0in 0in 0pt"><SPAN style="FONT-SIZE: 18pt\; LINE-HEIGHT: 115%"><o:p>&nbsp\;</o:p></SPAN></P><P class=MsoNormal style="MARGIN: 0in 0in 0pt"><SPAN style="FONT-SIZE: 18pt\; LINE-HEIGHT: 115%">When:<SPAN style="mso-tab-count: 1">&nbsp\;&nbsp\;&nbsp\;&nbsp\; </SPAN>May 18\, 2015<o:p></o:p></SPAN></P><P class=MsoNormal style="MARGIN: 0in 0in 0pt"><SPAN style="FONT-SIZE: 18pt\; LINE-HEIGHT: 115%">Where:<SPAN style="mso-tab-count: 1">&nbsp\;&nbsp\;&nbsp\; </SPAN>SOS Club (Roselawn Ave\, back side of SOS)<o:p></o:p></SPAN></P><P class=MsoNormal style="MARGIN: 0in 0in 0pt"><SPAN style="FONT-SIZE: 18pt\; LINE-HEIGHT: 115%">Time:<SPAN style="mso-tab-count: 1">&nbsp\;&nbsp\;&nbsp\;&nbsp\;&nbsp\; </SPAN>10:30am – Ground Breaking<o:p></o:p></SPAN></P><P class=MsoNormal style="MARGIN: 0in 0in 0pt"><SPAN style="FONT-SIZE: 18pt\; LINE-HEIGHT: 115%"><SPAN style="mso-tab-count: 2">&nbsp\;&nbsp\;&nbsp\;&nbsp\;&nbsp\;&nbsp\;&nbsp\;&nbsp\;&nbsp\;&nbsp\;&nbsp\;&nbsp\;&nbsp\;&nbsp\;&nbsp\; </SPAN>11:00am – Reception<o:p></o:p></SPAN></P><P class=MsoNormal style="MARGIN: 0in 0in 0pt"><SPAN style="FONT-SIZE: 18pt\; LINE-HEIGHT: 115%"><o:p>&nbsp\;</o:p></SPAN></P><P class=MsoNormal style="MARGIN: 0in 0in 0pt"><SPAN style="FONT-SIZE: 18pt\; LINE-HEIGHT: 115%">A Special Thanks To our Sponsors:<o:p></o:p></SPAN></P><P class=MsoNormal style="MARGIN: 0in 0in 0pt"><SPAN style="FONT-SIZE: 18pt\; LINE-HEIGHT: 115%"><o:p>&nbsp\;</o:p></SPAN></P><P class=MsoNormal style="MARGIN: 0in 0in 0pt"><SPAN style="FONT-SIZE: 18pt\; LINE-HEIGHT: 115%\; mso-no-proof: yes"><?xml:namespace prefix = v ns = "urn:schemas-microsoft-com:vml" /><v:shapetype id=_x0000_t75 stroked="f" filled="f" path="m@4@5l@4@11@9@11@9@5xe" o:preferrelative="t" o:spt="75" coordsize="21600\,21600"><v:stroke joinstyle="miter"></v:stroke><v:formulas><v:f eqn="if lineDrawn pixelLineWidth 0"></v:f><v:f eqn="sum @0 1 0"></v:f><v:f eqn="sum 0 0 @1"></v:f><v:f eqn="prod @2 1 2"></v:f><v:f eqn="prod @3 21600 pixelWidth"></v:f><v:f eqn="prod @3 21600 pixelHeight"></v:f><v:f eqn="sum @0 0 1"></v:f><v:f eqn="prod @6 1 2"></v:f><v:f eqn="prod @7 21600 pixelWidth"></v:f><v:f eqn="sum @8 21600 0"></v:f><v:f eqn="prod @7 21600 pixelHeight"></v:f><v:f eqn="sum @10 21600 0"></v:f></v:formulas><v:path o:connecttype="rect" gradientshapeok="t" o:extrusionok="f"></v:path><o:lock aspectratio="t" v:ext="edit"></o:lock></v:shapetype><v:shape id=Picture_x0020_1 style="VISIBILITY: visible\; WIDTH: 68.25pt\; HEIGHT: 63.75pt\; mso-wrap-style: square" type="#_x0000_t75" o:spid="_x0000_i1027"><v:imagedata o:title="" src="file:///C:\\Users\\ADMINA~1\\AppData\\Local\\Temp\\msohtmlclip1\\01\\clip_image001.jpg"></v:imagedata></v:shape></SPAN><SPAN style="FONT-SIZE: 18pt\; LINE-HEIGHT: 115%"><SPAN style="mso-tab-count: 3">&nbsp\;&nbsp\;&nbsp\;&nbsp\;&nbsp\;&nbsp\;&nbsp\;&nbsp\;&nbsp\;&nbsp\;&nbsp\;&nbsp\;&nbsp\;&nbsp\;&nbsp\;&nbsp\; </SPAN><SPAN style="mso-no-proof: yes"><v:shape id=Picture_x0020_2 style="VISIBILITY: visible\; WIDTH: 146.25pt\; HEIGHT: 68.25pt\; mso-wrap-style: square" type="#_x0000_t75" o:spid="_x0000_i1026"><v:imagedata o:title="" src="file:///C:\\Users\\ADMINA~1\\AppData\\Local\\Temp\\msohtmlclip1\\01\\clip_image003.png"></v:imagedata></v:shape></SPAN><SPAN style="mso-tab-count: 2">&nbsp\;&nbsp\;&nbsp\;&nbsp\;&nbsp\;&nbsp\;&nbsp\;&nbsp\;&nbsp\;&nbsp\;&nbsp\;&nbsp\;&nbsp\;&nbsp\;&nbsp\; </SPAN><SPAN style="mso-no-proof: yes"><v:shape id=Picture_x0020_3 style="VISIBILITY: visible\; WIDTH: 93.75pt\; HEIGHT: 66pt\; mso-wrap-style: square" type="#_x0000_t75" o:spid="_x0000_i1025"><v:imagedata o:title="" src="file:///C:\\Users\\ADMINA~1\\AppData\\Local\\Temp\\msohtmlclip1\\01\\clip_image005.jpg"></v:imagedata></v:shape></SPAN><o:p></o:p></SPAN></P><P class=MsoNormal style="MARGIN: 0in 0in 0pt"><o:p>&nbsp\;</o:p></P><P class=MsoNormal style="MARGIN: 0in 0in 0pt"><o:p>&nbsp\;</o:p></P><P class=MsoNormal style="MARGIN: 0in 0in 0pt"><o:p>&nbsp\;</o:p></P><P class=MsoNormal style="MARGIN: 0in 0in 0pt"><o:p>&nbsp\;</o:p></P><P class=MsoNormal style="MARGIN: 0in 0in 0pt"><o:p>&nbsp\;</o:p></P><P class=MsoNormal style="MARGIN: 0in 0in 0pt"><o:p>&nbsp\;</o:p></P><P class=MsoNormal style="MARGIN: 0in 0in 0pt">Please RSVP To: Sarah Konold at:<SPAN style="mso-spacerun: yes">&nbsp\;&nbsp\; </SPAN>skonold@ucpstan.org <SPAN style="mso-tab-count: 1"></SPAN>209-577-2122 x140<o:p></o:p></P><P>&nbsp\;</P>
LOCATION:SOS - Community Garden for the disabled 819 Sunset Avenue Modesto\, CA
UID:e.2695.1089
SEQUENCE:3
DTSTAMP:20260420T045807Z
URL:https://business.modchamber.org/events/details/ribbon-cutting-united-cerebal-palsy-of-stanislaus-05-18-2015-1089
END:VEVENT

END:VCALENDAR
