BEGIN:VCALENDAR
VERSION:2.0
PRODID:-//ChamberMaster//Event Calendar 2.0//EN
METHOD:PUBLISH
X-PUBLISHED-TTL:P3D
REFRESH-INTERVAL:P3D
CALSCALE:GREGORIAN
BEGIN:VEVENT
DTSTART:20160504T230000Z
DTEND:20160505T000000Z
X-MICROSOFT-CDO-ALLDAYEVENT:FALSE
SUMMARY:Ribbon Cutting - The Season's and Custom Casino Events
DESCRIPTION:Come Welcome two of our new members in one location!    A ribbon cutting is held to announce to the Central Valley that a business is a new member of the Modesto Chamber of Commerce! This celebration may mark the beginning of their relationship with us\, the grand opening of their new business\, the opening of an additional location\, or the completion of their recent remodel. Ribbon cuttings are attended by friends and collegues of the respective business\, Chamber of Commerce Board and staff members\, and the Chamber Welcome Team. The event is often recognized by the area's elected officials. All are welcome to join us as the Chamber proudly recognizes member-businesses for their economic contribution to our community.
X-ALT-DESC;FMTTYPE=text/html:<DIV style="FONT-FAMILY: Arial"><SPAN style="DISPLAY: inline! important\; FLOAT: none\; WORD-SPACING: 0px\; FONT: 14px Geneva\, Arial\, Helvetica\, sans-serif\; TEXT-TRANSFORM: none\; COLOR: rgb(51\,51\,51)\; TEXT-INDENT: 0px\; WHITE-SPACE: normal\; LETTER-SPACING: normal\; BACKGROUND-COLOR: rgb(255\,255\,255)\; orphans: auto\; widows: 1\; -webkit-text-stroke-width: 0px">Come Welcome two of our new members in one location! </SPAN></DIV><DIV style="FONT-FAMILY: Arial"><SPAN style="DISPLAY: inline! important\; FLOAT: none\; WORD-SPACING: 0px\; FONT: 14px Geneva\, Arial\, Helvetica\, sans-serif\; TEXT-TRANSFORM: none\; COLOR: rgb(51\,51\,51)\; TEXT-INDENT: 0px\; WHITE-SPACE: normal\; LETTER-SPACING: normal\; BACKGROUND-COLOR: rgb(255\,255\,255)\; orphans: auto\; widows: 1\; -webkit-text-stroke-width: 0px"></SPAN>&nbsp\;</DIV><DIV style="FONT-FAMILY: Arial"><SPAN style="DISPLAY: inline! important\; FLOAT: none\; WORD-SPACING: 0px\; FONT: 14px Geneva\, Arial\, Helvetica\, sans-serif\; TEXT-TRANSFORM: none\; COLOR: rgb(51\,51\,51)\; TEXT-INDENT: 0px\; WHITE-SPACE: normal\; LETTER-SPACING: normal\; BACKGROUND-COLOR: rgb(255\,255\,255)\; orphans: auto\; widows: 1\; -webkit-text-stroke-width: 0px"></SPAN>&nbsp\;</DIV><DIV style="FONT-FAMILY: Arial"><SPAN style="DISPLAY: inline! important\; FLOAT: none\; WORD-SPACING: 0px\; FONT: 14px Geneva\, Arial\, Helvetica\, sans-serif\; TEXT-TRANSFORM: none\; COLOR: rgb(51\,51\,51)\; TEXT-INDENT: 0px\; WHITE-SPACE: normal\; LETTER-SPACING: normal\; BACKGROUND-COLOR: rgb(255\,255\,255)\; orphans: auto\; widows: 1\; -webkit-text-stroke-width: 0px"></SPAN>&nbsp\;</DIV><DIV style="FONT-FAMILY: Arial"><SPAN style="DISPLAY: inline! important\; FLOAT: none\; WORD-SPACING: 0px\; FONT: 14px Geneva\, Arial\, Helvetica\, sans-serif\; TEXT-TRANSFORM: none\; COLOR: rgb(51\,51\,51)\; TEXT-INDENT: 0px\; WHITE-SPACE: normal\; LETTER-SPACING: normal\; BACKGROUND-COLOR: rgb(255\,255\,255)\; orphans: auto\; widows: 1\; -webkit-text-stroke-width: 0px">A ribbon cutting is held to announce to the Central Valley that a business is a new member of the Modesto Chamber of Commerce! This celebration may mark the beginning of their relationship with us\, the grand opening of their new business\, the opening of an additional location\, or the completion of their recent remodel. Ribbon cuttings are attended by friends and collegues of the respective business\, Chamber of Commerce Board and staff members\, and the Chamber Welcome Team. The event is often recognized by the area's elected officials. All are welcome to join us as the Chamber proudly recognizes member-businesses for their economic contribution to our community.</SPAN></DIV>
LOCATION:The Seasons at McHenry Event Center 945 McHenry Avenue Modesto\, CA 95350
UID:e.2695.1680
SEQUENCE:3
DTSTAMP:20260419T125248Z
URL:https://business.modchamber.org/events/details/ribbon-cutting-the-season-s-and-custom-casino-events-05-04-2016-1680
END:VEVENT

END:VCALENDAR
