BEGIN:VCALENDAR
VERSION:2.0
PRODID:-//ChamberMaster//Event Calendar 2.0//EN
METHOD:PUBLISH
X-PUBLISHED-TTL:P3D
REFRESH-INTERVAL:P3D
CALSCALE:GREGORIAN
BEGIN:VEVENT
DTSTART:20140124T000000Z
DTEND:20140124T003000Z
X-MICROSOFT-CDO-ALLDAYEVENT:FALSE
SUMMARY:Ribbon Cutting - Learning Quest - Stanislaus Literacy Center
DESCRIPTION:A ribbon cutting is held to announce to the Central Valley that a business is a new member of the Modesto Chamber of Commerce!  This celebration may mark the beginning of their relationship with us\, the grand opening of their new business\, the opening of an additional location\, or the completion of their recent remodel.  Ribbon cuttings are attended by friends and collegues of the respective business\, Chamber of Commerce Board and staff members\, and the Chamber Welcome Team.  The event is often recognized by the area's elected officials.  All are welcome to join us as the Chamber proudly recognizes member-businesses for their economic contribution to our community.
X-ALT-DESC;FMTTYPE=text/html:A ribbon cutting is held to announce to the Central Valley that a business is a new member of the Modesto Chamber of Commerce!  This celebration may mark the beginning of their relationship with us\, the grand opening of their new business\, the opening of an additional location\, or the completion of their recent remodel.  Ribbon cuttings are attended by friends and collegues of the respective business\, Chamber of Commerce Board and staff members\, and the Chamber Welcome Team.  The event is often recognized by the area's elected officials.  All are welcome to join us as the Chamber proudly recognizes member-businesses for their economic contribution to our community.
LOCATION:Learning Quest - Stanislaus Literacy Center 1032 11th Street Modesto\, CA 95354
UID:e.2695.341
SEQUENCE:3
DTSTAMP:20260423T060911Z
URL:https://business.modchamber.org/events/details/ribbon-cutting-learning-quest-stanislaus-literacy-center-01-23-2014-341
END:VEVENT

END:VCALENDAR
