BEGIN:VCALENDAR
VERSION:2.0
PRODID:-//ChamberMaster//Event Calendar 2.0//EN
METHOD:PUBLISH
X-PUBLISHED-TTL:P3D
REFRESH-INTERVAL:P3D
CALSCALE:GREGORIAN
BEGIN:VEVENT
DTSTART:20141019T200000Z
DTEND:20141019T210000Z
X-MICROSOFT-CDO-ALLDAYEVENT:FALSE
SUMMARY:Ribbon Cutting - Johnny Carino's
DESCRIPTION:JOHNNY CARINO’S ITALIAN OPENS NEW JOHNNY’S FAMOUS TAVERN IN MODESTO\, CA First 100 Guests at the October 19th Grand Opening Win a FREE Pizza Each Week for a Year!* MODESTO\, CA October 7\, 2014 – Johnny Carino’s Italian announces the opening of its first Italian-American Tavern in Modesto\, California at the Vintage Faire Mall. Called "Johnny’s Famous Italian American Tavern\," this tavern\, with over 10 large flat screen TV’s for prime sports viewing\, is scheduled to open on Sunday\, October 19th at 1pm. The restaurant is located at 3401 Dale Road\, Bldg "C" and will offer an all day every day happy hour menu\, 100 plus beers\, $2 drafts\, 25 cent wings\, 20 handcrafted pizzas\, burgers\, tri-tip sandwiches and more. Celebrate the grand opening of Johnny’s Famous Tavern at Johnny Carino’s at the Vintage Faire Mall on Sunday\, October 19th at 1:00pm with a ribbon cutting by the Modesto Chamber of Commerce . The first 100 guests in line at 2:00 p.m. will receive a FREE HANDCRAFTED PIZZA EACH WEEK FOR A YEAR! So make sure to get in line early to ensure your chances to win! Johnny’s Famous Tavern is a unique bar concept that will serve over 50 beers on draft and a wide variety of your favorite Italian and American dishes. From local craft brews such as Drakes and Dust Bowl to imports like Modelo and Newscastle\, Johnny’s Famous Tavern will not disappoint the beer fanatics. Its menu consists of a wide variety of food items as well\, including wings (with over 6 sauces to choose from)\, over 20 wood fired handcrafted pizzas\, Tri-tip sandwiches and Burgers\, BBQ Combos and more! The new concept is the modern day Italian-American pub where food and beer lovers will unite. Guests can enjoy lunch\, dinner and catch all the football games at Johnny’s Famous Tavern with all day every day happy hour specials seven days a week. For more information\, including a full menu and happy hour specials\, please visit www.johnnysfamoustavern.com Note to Editors: Contact J.D. Gantes jd.gantes@synpac.com for interviews\, photography and other requests. *One free pizza up to a $8.99 value per winner per week for one year. Limit 1 per household. Must be 18 years or older. JOHNNY’S FAMOUS TAVERN HOURS: Monday: 11:30am-10:00pm Tuesday: 11:30am-10:00pm Wednesday: 11:30am-11:00pm Thursday: 11:30am-11:00pm Friday: 11:30am-12:00am Saturday: 11:30am-12:00am Sunday: 10:00am-10:00pm
X-ALT-DESC;FMTTYPE=text/html:<B><FONT size=3><P>JOHNNY CARINO’S ITALIAN OPENS NEW JOHNNY’S FAMOUS TAVERN IN MODESTO\, CA </B></FONT><I><FONT face="Times New Roman\,Times New Roman" size=3><FONT face="Times New Roman\,Times New Roman" size=3>First 100 Guests at the October 19th Grand Opening Win a FREE Pizza Each Week for a Year!* </P></I></FONT></FONT><B><FONT size=3><P>MODESTO\, CA October 7\, 2014 – </B></FONT><FONT face="Times New Roman\,Times New Roman" size=3><FONT face="Times New Roman\,Times New Roman" size=3>Johnny Carino’s Italian announces the opening of its first Italian-American Tavern in Modesto\, California at the Vintage Faire Mall. Called "Johnny’s Famous Italian American Tavern\," this tavern\, with over 10 large flat screen TV’s for prime sports viewing\, is scheduled to open on Sunday\, October 19</FONT></FONT><FONT face="Times New Roman\,Times New Roman" size=1><FONT face="Times New Roman\,Times New Roman" size=1>th </FONT></FONT><FONT face="Times New Roman\,Times New Roman" size=3><FONT face="Times New Roman\,Times New Roman" size=3>at 1pm. The restaurant is located at 3401 Dale Road\, Bldg "C" and will offer an all day every day happy hour menu\, 100 plus beers\, $2 drafts\, 25 cent wings\, 20 handcrafted pizzas\, burgers\, tri-tip sandwiches and more. </P><P>Celebrate the grand opening of Johnny’s Famous Tavern at Johnny Carino’s at the Vintage Faire Mall on <STRONG>Sunday\, October 19</STRONG></FONT></FONT><FONT face="Times New Roman\,Times New Roman" size=1><FONT face="Times New Roman\,Times New Roman" size=1><STRONG>th </STRONG></FONT></FONT><FONT face="Times New Roman\,Times New Roman" size=3><FONT face="Times New Roman\,Times New Roman" size=3><STRONG>at 1:00pm with a ribbon cutting by the Modesto Chamber of Commerce .</STRONG> The first 100 guests in line at 2:00 p.m. will receive a FREE HANDCRAFTED PIZZA EACH WEEK FOR A YEAR! So make sure to get in line early to ensure your chances to win! </P><P>Johnny’s Famous Tavern is a unique bar concept that will serve over 50 beers on draft and a wide variety of your favorite Italian and American dishes. From local craft brews such as Drakes and Dust Bowl to imports like Modelo and Newscastle\, Johnny’s Famous Tavern will not disappoint the beer fanatics. Its menu consists of a wide variety of food items as well\, including wings (with over 6 sauces to choose from)\, over 20 wood fired handcrafted pizzas\, Tri-tip sandwiches and Burgers\, BBQ Combos and more! The new concept is the modern day Italian-American pub where food and beer lovers will unite. </P><P>Guests can enjoy lunch\, dinner and catch all the football games at Johnny’s Famous Tavern with all day every day happy hour specials seven days a week. For more information\, including a full menu and happy hour specials\, please visit </FONT></FONT><FONT face="Times New Roman\,Times New Roman" color=#0000ff size=3><FONT face="Times New Roman\,Times New Roman" color=#0000ff size=3><FONT face="Times New Roman\,Times New Roman" color=#0000ff size=3>www.johnnysfamoustavern.com </P></FONT></FONT></FONT><B><FONT size=3><P>Note to Editors</B></FONT><FONT face="Times New Roman\,Times New Roman" size=3><FONT face="Times New Roman\,Times New Roman" size=3>: Contact J.D. Gantes </FONT></FONT><FONT face="Times New Roman\,Times New Roman" color=#0000ff size=3><FONT face="Times New Roman\,Times New Roman" color=#0000ff size=3><FONT face="Times New Roman\,Times New Roman" color=#0000ff size=3>jd.gantes@synpac.com </FONT></FONT></FONT><FONT face="Times New Roman\,Times New Roman" size=3><FONT face="Times New Roman\,Times New Roman" size=3>for interviews\, photography and other requests. </P></FONT></FONT><FONT face=Calibri\,Calibri size=3><FONT face=Calibri\,Calibri size=3><P>*One free pizza up to a $8.99 value per winner per week for one year. Limit 1 per household. Must be 18 years or older. </P></FONT></FONT><B><FONT face=Calibri\,Calibri size=3><FONT face=Calibri\,Calibri size=3><P>JOHNNY’S FAMOUS TAVERN HOURS: </P></B></FONT></FONT><FONT face=Calibri\,Calibri size=3><FONT face=Calibri\,Calibri size=3><P>Monday: 11:30am-10:00pm </P><P>Tuesday: 11:30am-10:00pm </P><P>Wednesday: 11:30am-11:00pm </P><P>Thursday: 11:30am-11:00pm </P><P>Friday: 11:30am-12:00am </P><P>Saturday: 11:30am-12:00am </P><P>Sunday: 10:00am-10:00pm </P></FONT></FONT>
LOCATION:NorCal Dale Partners\, LP 3401 Dale\, Bldg "C" Modesto\, CA 95356
UID:e.2695.581
SEQUENCE:3
DTSTAMP:20260422T165247Z
URL:https://business.modchamber.org/events/details/ribbon-cutting-johnny-carino-s-10-19-2014-581
END:VEVENT

END:VCALENDAR
