BEGIN:VCALENDAR
VERSION:2.0
PRODID:-//ChamberMaster//Event Calendar 2.0//EN
METHOD:PUBLISH
X-PUBLISHED-TTL:P3D
REFRESH-INTERVAL:P3D
CALSCALE:GREGORIAN
BEGIN:VEVENT
DTSTART:20141030T230000Z
DTEND:20141031T010000Z
X-MICROSOFT-CDO-ALLDAYEVENT:FALSE
SUMMARY:Ribbon Cutting - El Jardin Restaurant
DESCRIPTION:Please join El Jardin for it's Grand Opening and Ribbon Cutting in downtown Modesto. They will be serving complimentary Appetizer's and Wine from 4:00-6:00pm. EL Jardin is open for business today! Go enjoy some amazing dishes ! A ribbon cutting is held to announce to the Central Valley that a business is a new member of the Modesto Chamber of Commerce! This celebration may mark the beginning of their relationship with us\, the grand opening of their new business\, the opening of an additional location\, or the completion of their recent remodel. Ribbon cuttings are attended by friends and collegues of the respective business\, Chamber of Commerce Board and staff members\, and the Chamber Welcome Team. The event is often recognized by the area's elected officials. All are welcome to join us as the Chamber proudly recognizes member-businesses for their economic contribution to our community.
X-ALT-DESC;FMTTYPE=text/html:<P>Please join El Jardin for it's Grand Opening and Ribbon Cutting in downtown Modesto. They will be&nbsp\;serving complimentary Appetizer's and Wine from 4:00-6:00pm. </P><P><STRONG>EL Jardin is open for business today! Go enjoy some amazing dishes ! </STRONG></P><P>A ribbon cutting is held to announce to the Central Valley that a business is a new member of the Modesto Chamber of Commerce! This celebration may mark the beginning of their relationship with us\, the grand opening of their new business\, the opening of an additional location\, or the completion of their recent remodel. Ribbon cuttings are attended by friends and collegues of the respective business\, Chamber of Commerce Board and staff members\, and the Chamber Welcome Team. The event is often recognized by the area's elected officials. All are welcome to join us as the Chamber proudly recognizes member-businesses for their economic contribution to our community.</P>
LOCATION:El Jardin Restaurant 959 - 10th Street Modesto\, CA 95354
UID:e.2695.580
SEQUENCE:3
DTSTAMP:20260422T194418Z
URL:https://business.modchamber.org/events/details/ribbon-cutting-el-jardin-restaurant-10-30-2014-580
END:VEVENT

END:VCALENDAR
