BEGIN:VCALENDAR
VERSION:2.0
PRODID:-//ChamberMaster//Event Calendar 2.0//EN
METHOD:PUBLISH
X-PUBLISHED-TTL:P3D
REFRESH-INTERVAL:P3D
CALSCALE:GREGORIAN
BEGIN:VEVENT
DTSTART:20150916T163000Z
DTEND:20150916T173000Z
X-MICROSOFT-CDO-ALLDAYEVENT:FALSE
SUMMARY:Ribbon Cutting - Daniels Jeweler's
DESCRIPTION:A ribbon cutting is held to announce to the Central Valley that a business is a new member of the Modesto Chamber of Commerce! This celebration may mark the beginning of their relationship with us\, the grand opening of their new business\, the opening of an additional location\, or the completion of their recent remodel. Ribbon cuttings are attended by friends and collegues of the respective business\, Chamber of Commerce Board and staff members\, and the Chamber Welcome Team. The event is often recognized by the area's elected officials. All are welcome to join us as the Chamber proudly recognizes member-businesses for their economic contribution to our community. Daniel’s Jewelers is located on the top level to the east of Forever 21. The best entrance is the Food Court Entrance.
X-ALT-DESC;FMTTYPE=text/html:<DIV style="FONT-FAMILY: Arial"><SPAN style="DISPLAY: inline! important\; FLOAT: none\; WORD-SPACING: 0px\; FONT: 14px Geneva\, Arial\, Helvetica\, sans-serif\; TEXT-TRANSFORM: none\; COLOR: rgb(51\,51\,51)\; TEXT-INDENT: 0px\; WHITE-SPACE: normal\; LETTER-SPACING: normal\; BACKGROUND-COLOR: rgb(255\,255\,255)\; orphans: auto\; widows: 1\; -webkit-text-stroke-width: 0px">A ribbon cutting is held to announce to the Central Valley that a business is a new member of the Modesto Chamber of Commerce! This celebration may mark the beginning of their relationship with us\, the grand opening of their new business\, the opening of an additional location\, or the completion of their recent remodel. Ribbon cuttings are attended by friends and collegues of the respective business\, Chamber of Commerce Board and staff members\, and the Chamber Welcome Team. The event is often recognized by the area's elected officials. All are welcome to join us as the Chamber proudly recognizes member-businesses for their economic contribution to our community.</SPAN></DIV><DIV style="FONT-FAMILY: Arial"><SPAN style="DISPLAY: inline! important\; FLOAT: none\; WORD-SPACING: 0px\; FONT: 14px Geneva\, Arial\, Helvetica\, sans-serif\; TEXT-TRANSFORM: none\; COLOR: rgb(51\,51\,51)\; TEXT-INDENT: 0px\; WHITE-SPACE: normal\; LETTER-SPACING: normal\; BACKGROUND-COLOR: rgb(255\,255\,255)\; orphans: auto\; widows: 1\; -webkit-text-stroke-width: 0px"></SPAN>&nbsp\;</DIV><DIV style="FONT-FAMILY: Arial"><SPAN style="DISPLAY: inline! important\; FLOAT: none\; WORD-SPACING: 0px\; FONT: 14px Geneva\, Arial\, Helvetica\, sans-serif\; TEXT-TRANSFORM: none\; COLOR: rgb(51\,51\,51)\; TEXT-INDENT: 0px\; WHITE-SPACE: normal\; LETTER-SPACING: normal\; BACKGROUND-COLOR: rgb(255\,255\,255)\; orphans: auto\; widows: 1\; -webkit-text-stroke-width: 0px"><P class=MsoNormal style="MARGIN: 0in 0in 0pt"><SPAN style="FONT-SIZE: 10pt\; FONT-FAMILY: 'Century Gothic'\,sans-serif"><FONT color=#ff0000><STRONG>Daniel’s Jewelers is located on the top level to the east of Forever 21. The best entrance is the Food Court Entrance. <?xml:namespace prefix = o ns = "urn:schemas-microsoft-com:office:office" /><o:p></o:p></STRONG></FONT></SPAN></P></SPAN></DIV>
LOCATION:Vintage Faire Mall/Macerich Company 3401 Dale Road\, Suite 483 Modesto\, CA 95356
UID:e.2695.1197
SEQUENCE:3
DTSTAMP:20260419T232108Z
URL:https://business.modchamber.org/events/details/ribbon-cutting-daniels-jeweler-s-09-16-2015-1197
END:VEVENT

END:VCALENDAR
