BEGIN:VCALENDAR
VERSION:2.0
PRODID:-//ChamberMaster//Event Calendar 2.0//EN
METHOD:PUBLISH
X-PUBLISHED-TTL:P3D
REFRESH-INTERVAL:P3D
CALSCALE:GREGORIAN
BEGIN:VEVENT
DTSTART:20140416T070000Z
DTEND:20140416T070000Z
X-MICROSOFT-CDO-ALLDAYEVENT:FALSE
SUMMARY:Ribbon Cutting - Computer Tutor
DESCRIPTION:Ribbon Cutting - Computer Tutor
X-ALT-DESC;FMTTYPE=text/html:Ribbon Cutting - Computer Tutor
LOCATION:Computer Tutor Business and Technical Institute
UID:e.2695.2244
SEQUENCE:3
DTSTAMP:20260423T031943Z
URL:https://business.modchamber.org/events/details/ribbon-cutting-computer-tutor-04-16-2014-2244
END:VEVENT

END:VCALENDAR
