BEGIN:VCALENDAR
VERSION:2.0
PRODID:-//ChamberMaster//Event Calendar 2.0//EN
METHOD:PUBLISH
X-PUBLISHED-TTL:P3D
REFRESH-INTERVAL:P3D
CALSCALE:GREGORIAN
BEGIN:VEVENT
DTSTART:20151110T183000Z
DTEND:20151110T193000Z
X-MICROSOFT-CDO-ALLDAYEVENT:FALSE
SUMMARY:Ribbon Cutting/Completion of the Pro-Build-Comcast
DESCRIPTION:The Ribbon Cutting Ceremony is an event in which we celebrate new members joining the Chamber. You will be presented with an official Membership Certificate from the Modesto Chamber of Commerce as well a Certificate from the City of Modesto. Among the invitees of all Ribbon Cutting Ceremonies are the Chamber’s Welcome Team\, made up of fellow Chamber members as well as representatives of our current Local and State Elected Officials. This is not only a celebration of your business and induction into the Chamber but also a great networking opportunity. A photo of the ribbon cutting will be featured in Progress Magazine\, giving you and your business exposure as a new Chamber member!
X-ALT-DESC;FMTTYPE=text/html:<P><SPAN style="DISPLAY: inline! important\; FLOAT: none\; WORD-SPACING: 0px\; FONT: 13px/23px Arial\, Helvetica\, Tahoma\, san-serif\; TEXT-TRANSFORM: none\; COLOR: rgb(0\,0\,0)\; TEXT-INDENT: 0px\; WHITE-SPACE: normal\; LETTER-SPACING: normal\; BACKGROUND-COLOR: rgb(255\,255\,255)\; orphans: auto\; widows: 1\; -webkit-text-stroke-width: 0px"><SPAN style="BORDER-RIGHT: 0px\; PADDING-RIGHT: 0px\; BORDER-TOP: 0px\; PADDING-LEFT: 0px\; BACKGROUND: rgb(255\,255\,255)\; PADDING-BOTTOM: 0px\; MARGIN: 0px\; WORD-SPACING: 0px\; FONT: 13px/23px Arial\, Helvetica\, Tahoma\, san-serif\; VERTICAL-ALIGN: baseline\; TEXT-TRANSFORM: none\; BORDER-LEFT: 0px\; COLOR: rgb(0\,0\,0)\; TEXT-INDENT: 0px\; PADDING-TOP: 0px\; BORDER-BOTTOM: 0px\; WHITE-SPACE: normal\; LETTER-SPACING: normal\; orphans: auto\; widows: 1\; -webkit-text-stroke-width: 0px"><SPAN style="BORDER-RIGHT: 0px\; PADDING-RIGHT: 0px\; BORDER-TOP: 0px\; PADDING-LEFT: 0px\; BACKGROUND: none transparent scroll repeat 0% 0%\; PADDING-BOTTOM: 0px\; MARGIN: 0px\; VERTICAL-ALIGN: baseline\; BORDER-LEFT: 0px\; LINE-HEIGHT: 1.8\; PADDING-TOP: 0px\; BORDER-BOTTOM: 0px">The Ribbon Cutting Ceremony is an event in which we celebrate new members joining the Chamber. You will be presented with an official Membership Certificate from the Modesto Chamber of Commerce as well a Certificate from the City of Modesto.&nbsp\;</SPAN>Among</SPAN><SPAN style="BORDER-RIGHT: 0px\; PADDING-RIGHT: 0px\; BORDER-TOP: 0px\; PADDING-LEFT: 0px\; BACKGROUND: rgb(255\,255\,255)\; PADDING-BOTTOM: 0px\; MARGIN: 0px\; WORD-SPACING: 0px\; FONT: 13px/1.8 Arial\, Helvetica\, Tahoma\, san-serif\; VERTICAL-ALIGN: baseline\; TEXT-TRANSFORM: none\; BORDER-LEFT: 0px\; COLOR: rgb(0\,0\,0)\; TEXT-INDENT: 0px\; PADDING-TOP: 0px\; BORDER-BOTTOM: 0px\; WHITE-SPACE: normal\; LETTER-SPACING: normal\; orphans: auto\; widows: 1\; -webkit-text-stroke-width: 0px"><SPAN style="BORDER-RIGHT: 0px\; PADDING-RIGHT: 0px\; BORDER-TOP: 0px\; PADDING-LEFT: 0px\; BACKGROUND: none transparent scroll repeat 0% 0%\; PADDING-BOTTOM: 0px\; MARGIN: 0px\; VERTICAL-ALIGN: baseline\; BORDER-LEFT: 0px\; COLOR: rgb(0\,0\,0)\; PADDING-TOP: 0px\; BORDER-BOTTOM: 0px">&nbsp\;the invitees of all Ribbon Cutting Ceremonies are the Chamber’s Welcome Team\, made up of fellow Chamber members as well as representatives of our current Local and State Elected Officials. This is not only a celebration of your business and induction into the Chamber but also a great networking opportunity. A photo of the ribbon cutting will be featured in</SPAN><SPAN class=Apple-converted-space>&nbsp\;</SPAN><A style="BORDER-RIGHT: 0px\; PADDING-RIGHT: 0px\; BORDER-TOP: 0px\; PADDING-LEFT: 0px\; BACKGROUND: none transparent scroll repeat 0% 0%\; PADDING-BOTTOM: 0px\; MARGIN: 0px\; VERTICAL-ALIGN: baseline\; BORDER-LEFT: 0px\; COLOR: rgb(0\,43\,127)\; PADDING-TOP: 0px\; BORDER-BOTTOM: 0px\; TEXT-DECORATION: none" href="http://http//www.modchamber.org/news/progress-magazine/">Progress Magazine</A>\,<SPAN class=Apple-converted-space>&nbsp\;</SPAN><SPAN style="BORDER-RIGHT: 0px\; PADDING-RIGHT: 0px\; BORDER-TOP: 0px\; PADDING-LEFT: 0px\; BACKGROUND: none transparent scroll repeat 0% 0%\; PADDING-BOTTOM: 0px\; MARGIN: 0px\; VERTICAL-ALIGN: baseline\; BORDER-LEFT: 0px\; COLOR: rgb(0\,0\,0)\; PADDING-TOP: 0px\; BORDER-BOTTOM: 0px">giving you and your business exposure as a new Chamber member!</SPAN></SPAN></SPAN></P>
LOCATION:United Capital (Host) 300 Banner Court Modesto\, CA
UID:e.2695.1313
SEQUENCE:3
DTSTAMP:20260419T203908Z
URL:https://business.modchamber.org/events/details/ribbon-cutting-completion-of-the-pro-build-comcast-11-10-2015-1313
END:VEVENT

END:VCALENDAR
