BEGIN:VCALENDAR
VERSION:2.0
PRODID:-//ChamberMaster//Event Calendar 2.0//EN
METHOD:PUBLISH
X-PUBLISHED-TTL:P3D
REFRESH-INTERVAL:P3D
CALSCALE:GREGORIAN
BEGIN:VEVENT
DTSTART:20160812T193000Z
DTEND:20160812T203000Z
X-MICROSOFT-CDO-ALLDAYEVENT:FALSE
SUMMARY:Ribbon Cutting - Central Catholic Mark Gallo Health & Fitness Center
DESCRIPTION:Ribbon cutting is held to announce to the Central Valley that a business is a new member of the Modesto Chamber of Commerce! This celebration may mark the beginning of their relationship with us\, the grand opening of their new business\, the opening of an additional location\, or the completion of their recent remodel. Ribbon cuttings are attended by friends and colleagues of the respective business\, Chamber of Commerce Board and staff members\, and the Chamber Welcome Team. The event is often recognized by the area's elected officials. All are welcome to join us as the Chamber proudly recognizes member-businesses for their economic contribution on to our community.
X-ALT-DESC;FMTTYPE=text/html:<div style="FONT-FAMILY: Arial"><span style="font-stretch: normal\; font-size: 14px\; font-family: Geneva\, Arial\, Helvetica\, sans-serif\; color: rgb(51\, 51\, 51)\; background-color: rgb(255\, 255\, 255)\;">Ribbon cutting is held to announce to the Central Valley that a business is a new member of the Modesto Chamber of Commerce! This celebration may mark the beginning of their relationship with us\, the grand opening of their new business\, the opening of an additional location\, or the completion of their recent remodel. Ribbon cuttings are attended by friends and colleagues of the respective business\, Chamber of Commerce Board and staff members\, and the Chamber Welcome Team. The event is often recognized by the area&#39\;s elected officials. All are welcome to join us as the Chamber proudly recognizes member-businesses for their economic contribution<span style="font-stretch: normal\;">&nbsp\;</span>on to our community.</span></div>\n
LOCATION:200 S. Carpenter Rd Modesto\, Ca 95351
UID:e.2695.2284
SEQUENCE:3
DTSTAMP:20260421T084543Z
URL:https://business.modchamber.org/events/details/ribbon-cutting-central-catholic-mark-gallo-health-fitness-center-08-12-2016-2284
END:VEVENT

END:VCALENDAR
