BEGIN:VCALENDAR
VERSION:2.0
PRODID:-//ChamberMaster//Event Calendar 2.0//EN
METHOD:PUBLISH
X-PUBLISHED-TTL:P3D
REFRESH-INTERVAL:P3D
CALSCALE:GREGORIAN
BEGIN:VEVENT
DTSTART:20140917T190000Z
DTEND:20140917T200000Z
X-MICROSOFT-CDO-ALLDAYEVENT:FALSE
SUMMARY:Ribbon Cutting - American Tax Credits Group
DESCRIPTION:American Tax Credits Group will be hosting their Ribbon Cutting at the Modesto Chamber of Commerce. Sandwiches and Beverages will be provided. Please come and Welcome them to the Chamber and the business community!  A ribbon cutting is held to announce to the Central Valley that a business is a new member of the Modesto Chamber of Commerce! This celebration may mark the beginning of their relationship with us\, the grand opening of their new business\, the opening of an additional location\, or the completion of their recent remodel. Ribbon cuttings are attended by friends and collegues of the respective business\, Chamber of Commerce Board and staff members\, and the Chamber Welcome Team. The event is often recognized by the area's elected officials. All are welcome to join us as the Chamber proudly recognizes member-businesses for their economic contribution to our community.
X-ALT-DESC;FMTTYPE=text/html:<P>American Tax Credits Group will be hosting their Ribbon Cutting at the Modesto Chamber of Commerce. Sandwiches and Beverages will be provided. Please come and Welcome them to the Chamber and the business community! </P><P>&nbsp\;</P><P>A ribbon cutting is held to announce to the Central Valley that a business is a new member of the Modesto Chamber of Commerce! This celebration may mark the beginning of their relationship with us\, the grand opening of their new business\, the opening of an additional location\, or the completion of their recent remodel. Ribbon cuttings are attended by friends and collegues of the respective business\, Chamber of Commerce Board and staff members\, and the Chamber Welcome Team. The event is often recognized by the area's elected officials. All are welcome to join us as the Chamber proudly recognizes member-businesses for their economic contribution to our community.</P>
LOCATION:Modesto Chamber of Commerce 1114 J Street Modesto\, CA 95354
UID:e.2695.563
SEQUENCE:3
DTSTAMP:20260422T180906Z
URL:https://business.modchamber.org/events/details/ribbon-cutting-american-tax-credits-group-09-17-2014-563
END:VEVENT

END:VCALENDAR
