BEGIN:VCALENDAR
VERSION:2.0
PRODID:-//ChamberMaster//Event Calendar 2.0//EN
METHOD:PUBLISH
X-PUBLISHED-TTL:P3D
REFRESH-INTERVAL:P3D
CALSCALE:GREGORIAN
BEGIN:VEVENT
DTSTART:20140515T183000Z
DTEND:20140515T200000Z
X-MICROSOFT-CDO-ALLDAYEVENT:FALSE
SUMMARY:Reputation Management
DESCRIPTION:In today’s media environment\, protecting your reputation requires strategic and timely response\, especially in times of crisis.  Sean Smith is currently Senior Vice President of Porter Novelli’s global crisis communications team in New York City and the former Assistant Secretary for Public Affairsin the Department of Homeland Security. Join us as he shares his expertise in reputation managementand crisis communication.
X-ALT-DESC;FMTTYPE=text/html:In today’s media environment\, protecting your reputation requires strategic and timely response\, especially in times of crisis.  Sean Smith is currently Senior Vice President of Porter Novelli’s global crisis communications team in New York City and the former Assistant Secretary for Public Affairsin the Department of Homeland Security. Join us as he shares his expertise in reputation managementand crisis communication.
LOCATION:Stanislaus County Office of Education 100 H Street Modesto\, CA 95354
UID:e.2695.464
SEQUENCE:3
DTSTAMP:20260423T002512Z
URL:https://business.modchamber.org/events/details/reputation-management-05-15-2014-464
END:VEVENT

END:VCALENDAR
