BEGIN:VCALENDAR
VERSION:2.0
PRODID:-//ChamberMaster//Event Calendar 2.0//EN
METHOD:PUBLISH
X-PUBLISHED-TTL:P3D
REFRESH-INTERVAL:P3D
CALSCALE:GREGORIAN
BEGIN:VEVENT
DTSTART:20260121T230000Z
DTEND:20260122T000000Z
X-MICROSOFT-CDO-ALLDAYEVENT:FALSE
SUMMARY:Renew You Body Butter Green Ribbon Cutting
DESCRIPTION:Dear Chamber Members and Community Partners\,\n\nThe Modesto Chamber of Commerce invites you to a Green Ribbon Cutting Celebration honoring Renew You Body Butters as they achieve Certified Green Business status.\n\nJoin us to celebrate this exciting milestone\, explore their handcrafted body butters and skincare products\, and support a local business making a positive impact on our community and the environment.\n\nEvent Details:\n\nDate: Wednesday\, January 21st\, 2026\n\nTime: 3:00 PM   4:00 PM\n\nLocation: 1114 J St\, Modesto\, CA 95354\n\nCertificate Inscription: "Renew You Body Butters"\n\nAbout Renew You Body Butters:\n\nThis wonderful local business makes handcrafted body butters that care for both your skin and the environment. Their mission is all about helping people feel renewed\, confident\, and connected while supporting sustainable practices.\n\nWe'd love to see you there! Come celebrate\, connect\, and show your support for a business doing great things for our community.
X-ALT-DESC;FMTTYPE=text/html:<div style="margin-top: 1em\; margin-bottom: 1em\; font-family: &quot\;Cambria Math&quot\;\; font-size: 12pt\;">Dear Chamber Members and Community Partners\,</div>\n\n<div style="margin-top: 1em\; margin-bottom: 1em\; font-family: &quot\;Cambria Math&quot\;\; font-size: 12pt\;">The Modesto Chamber of Commerce invites you to a <b>Green Ribbon Cutting Celebration</b>&nbsp\;honoring <b>Renew You Body Butters</b>&nbsp\;as they achieve <b>Certified Green Business</b>&nbsp\;status.</div>\n\n<div style="margin-top: 1em\; margin-bottom: 1em\; font-family: &quot\;Cambria Math&quot\;\; font-size: 12pt\;">Join us to celebrate this exciting milestone\, explore their handcrafted body butters and skincare products\, and support a local business making a positive impact on our community and the environment.</div>\n\n<div style="margin-top: 1em\; margin-bottom: 1em\; font-family: &quot\;Cambria Math&quot\;\; font-size: 12pt\;"><b>Event Details:</b><br />\n<b>Date:</b>&nbsp\;Wednesday\, January 21st\, 2026<br />\n<b>Time:</b>&nbsp\;3:00 PM &ndash\; 4:00 PM<br />\n<b>Location:</b>&nbsp\;1114 J St\,&nbsp\;Modesto\, CA 95354<br />\n<b>Certificate Inscription:</b>&nbsp\;&ldquo\;Renew You Body Butters&rdquo\;</div>\n\n<div style="margin-top: 1em\; margin-bottom: 1em\; font-family: &quot\;Cambria Math&quot\;\; font-size: 12pt\;"><b>About Renew You Body Butters:</b></div>\n\n<div style="margin-top: 1em\; margin-bottom: 1em\; font-family: &quot\;Cambria Math&quot\;\; font-size: 12pt\;">This wonderful local business makes handcrafted body butters that care for both your skin and the environment. Their mission is all about helping people feel renewed\, confident\, and connected while supporting sustainable practices.</div>\n\n<div style="margin-top: 1em\; margin-bottom: 1em\; font-family: &quot\;Cambria Math&quot\;\; font-size: 12pt\;">We&rsquo\;d love to see you there! Come celebrate\, connect\, and show your support for a business doing great things for our community.</div>\n
LOCATION:Location: 1114 J St\, Modesto\, CA 95354
UID:e.2695.12989
SEQUENCE:3
DTSTAMP:20260424T191152Z
URL:https://business.modchamber.org/events/details/renew-you-body-butter-green-ribbon-cutting-12989
END:VEVENT

END:VCALENDAR
