BEGIN:VCALENDAR
VERSION:2.0
PRODID:-//ChamberMaster//Event Calendar 2.0//EN
METHOD:PUBLISH
X-PUBLISHED-TTL:P3D
REFRESH-INTERVAL:P3D
CALSCALE:GREGORIAN
BEGIN:VEVENT
DTSTART:20150424T230000Z
DTEND:20150425T050000Z
X-MICROSOFT-CDO-ALLDAYEVENT:FALSE
SUMMARY:Relay for Life of Modesto High School
DESCRIPTION:The American Cancer Society Relay For Life is the world's largest and most impactful fundraising event to end cancer. It unites communities across the globe to celebrate people who have battled cancer\, remember loved ones lost\, and take action to finish the fight once and for all. Today\, with the support of thousands of volunteers like you\, the American Cancer Society is helping save more than 400 lives a day. And we won't stop until we finish the fight against cancer! Please join us!\nContact : 	Michael Riddle\nPhone : 	(209) 914-6020\nEmail : 	michael.riddle@cancer.org\nWeb Site : 	www.relay.acsevents.org
X-ALT-DESC;FMTTYPE=text/html:	The American Cancer Society Relay For Life is the world's largest and most impactful fundraising event to end cancer. It unites communities across the globe to celebrate people who have battled cancer\, remember loved ones lost\, and take action to finish the fight once and for all. Today\, with the support of thousands of volunteers like you\, the American Cancer Society is helping save more than 400 lives a day. And we won't stop until we finish the fight against cancer! Please join us!\nContact : 	Michael Riddle\nPhone : 	(209) 914-6020\nEmail : 	michael.riddle@cancer.org\nWeb Site : 	www.relay.acsevents.org
LOCATION:Modesto High School 18 H ST Modesto\, CA 95351
UID:e.2695.887
SEQUENCE:3
DTSTAMP:20260420T063231Z
URL:https://business.modchamber.org/events/details/relay-for-life-of-modesto-high-school-04-24-2015-887
END:VEVENT

END:VCALENDAR
