BEGIN:VCALENDAR
VERSION:2.0
PRODID:-//ChamberMaster//Event Calendar 2.0//EN
METHOD:PUBLISH
X-PUBLISHED-TTL:P3D
REFRESH-INTERVAL:P3D
CALSCALE:GREGORIAN
BEGIN:VEVENT
DTSTART:20160422T230000Z
DTEND:20160422T070000Z
X-MICROSOFT-CDO-ALLDAYEVENT:FALSE
SUMMARY:Relay For Life of Modesto High School
DESCRIPTION:Opening Ceremony: 4:00 pm\nOur Opening Ceremony brings the whole school together for a fun\, high-energy event kickoff that celebrates the lives of those who have battled cancer and reminds us all that while we are winning this battle\, fighting cancer is a year-round priority.\n\nSurvivors Lap: 4:15 pm\nCancer survivors are the stars of the event so they get the first lap around the track. Cheered on by other participants and the sound of upbeat music\, the Survivors Lap lets all cancer survivors at the event celebrate their victory over cancer.\n\nCaregivers Lap: 4:15 pm\nBeing a caregiver to a cancer patient can be difficult\, so we make sure caregivers know how much we appreciate them. During the Caregivers Lap\, anyone who has cared for someone with cancer walks a special lap so they can be honored. Caregivers walk this lap with the people they helped if they are also present.\n\nLuminaria Ceremony: 8:00 pm\nAt the Luminaria Ceremony we remember loved ones lost to cancer\, support people who currently have cancer\, and honor people who fought cancer in the past. It's a powerful part of the event because it provides an opportunity for people to work through grief and find hope.\n\nFight Back Ceremony: 9:30 pm\nWe must continue to Fight Back against cancer after the Relay event ends. This ceremony helps students\, teachers and parents leave the event with information about cancer education\, advocacy\, and the mission\, programs\, and services of the American Cancer Society.\n\nClosing Ceremony: 9:45 pm\nThe Closing Ceremony celebrates what the school just accomplished together. It's also a time to remember the lives of those lost\, and to commit to continuing the fight against this disease over the next year.\nContact :	Michael Riddle\nPhone :	(209) 914-6020\nEmail :	michael.riddle@cancer.org\nWeb Site :
X-ALT-DESC;FMTTYPE=text/html:Opening Ceremony: 4:00 pm\nOur Opening Ceremony brings the whole school together for a fun\, high-energy event kickoff that celebrates the lives of those who have battled cancer and reminds us all that while we are winning this battle\, fighting cancer is a year-round priority.\n\nSurvivors Lap: 4:15 pm\nCancer survivors are the stars of the event so they get the first lap around the track. Cheered on by other participants and the sound of upbeat music\, the Survivors Lap lets all cancer survivors at the event celebrate their victory over cancer.\n\nCaregivers Lap: 4:15 pm\nBeing a caregiver to a cancer patient can be difficult\, so we make sure caregivers know how much we appreciate them. During the Caregivers Lap\, anyone who has cared for someone with cancer walks a special lap so they can be honored. Caregivers walk this lap with the people they helped if they are also present.\n\nLuminaria Ceremony: 8:00 pm\nAt the Luminaria Ceremony we remember loved ones lost to cancer\, support people who currently have cancer\, and honor people who fought cancer in the past. It's a powerful part of the event because it provides an opportunity for people to work through grief and find hope.\n\nFight Back Ceremony: 9:30 pm\nWe must continue to Fight Back against cancer after the Relay event ends. This ceremony helps students\, teachers and parents leave the event with information about cancer education\, advocacy\, and the mission\, programs\, and services of the American Cancer Society.\n\nClosing Ceremony: 9:45 pm\nThe Closing Ceremony celebrates what the school just accomplished together. It's also a time to remember the lives of those lost\, and to commit to continuing the fight against this disease over the next year.\nContact :	Michael Riddle\nPhone :	(209) 914-6020\nEmail :	michael.riddle@cancer.org\nWeb Site :	
LOCATION:Modesto High School 18 H Street Modesto\, CA 95351
UID:e.2695.1489
SEQUENCE:3
DTSTAMP:20260419T154120Z
URL:https://business.modchamber.org/events/details/relay-for-life-of-modesto-high-school-04-22-2016-1489
END:VEVENT

END:VCALENDAR
