BEGIN:VCALENDAR
VERSION:2.0
PRODID:-//ChamberMaster//Event Calendar 2.0//EN
METHOD:PUBLISH
X-PUBLISHED-TTL:P3D
REFRESH-INTERVAL:P3D
CALSCALE:GREGORIAN
BEGIN:VEVENT
DTSTART:20150516T160000Z
DTEND:20150516T070000Z
X-MICROSOFT-CDO-ALLDAYEVENT:FALSE
SUMMARY:Relay For Life of Modesto
DESCRIPTION:The American Cancer Society Relay For Life is the world's largest and most impact fundraising event to end cancer. It unites communities across the globe to celebrate people who have battled cancer\, remember loved ones lost\, and take action to finish the fight once and for all. Today\, with the support of thousands of volunteers like you\, the American Cancer Society is helping save more than 400 lives a day. And we won't stop until we finish the fight against cancer! Please join us!\nContact :	Michelle Thomasser\nPhone :	209-914-6166\nEmail :	mthomasser@calmort.com\nWeb Site :	www.relay.acsevents.org
X-ALT-DESC;FMTTYPE=text/html:	The American Cancer Society Relay For Life is the world's largest and most impact fundraising event to end cancer. It unites communities across the globe to celebrate people who have battled cancer\, remember loved ones lost\, and take action to finish the fight once and for all. Today\, with the support of thousands of volunteers like you\, the American Cancer Society is helping save more than 400 lives a day. And we won't stop until we finish the fight against cancer! Please join us!\nContact :	Michelle Thomasser\nPhone :	209-914-6166\nEmail :	mthomasser@calmort.com\nWeb Site :	www.relay.acsevents.org
LOCATION:Johansen High School 641 Norseman Dr Modesto\, CA 95356
UID:e.2695.936
SEQUENCE:3
DTSTAMP:20260420T063109Z
URL:https://business.modchamber.org/events/details/relay-for-life-of-modesto-05-16-2015-936
END:VEVENT

END:VCALENDAR
