BEGIN:VCALENDAR
VERSION:2.0
PRODID:-//ChamberMaster//Event Calendar 2.0//EN
METHOD:PUBLISH
X-PUBLISHED-TTL:P3D
REFRESH-INTERVAL:P3D
CALSCALE:GREGORIAN
BEGIN:VEVENT
DTSTART:20160514T160000Z
DTEND:20160514T070000Z
X-MICROSOFT-CDO-ALLDAYEVENT:FALSE
SUMMARY:Relay For Life of Modesto
DESCRIPTION:The American Cancer Society Relay for Life unites communities across the globe to celebrate people who have battled cancer\, remember loved ones lost\, and take action to finish the fight once and for all. Today\, with the support of thousands of volunteers like you\, the American Cancer Society is helping save more than 400 lives a day. And we won't stop until we finish the fight against cancer! Please join us!\nContact : 	\nPhone : 	209-914-6166\nEmail : 	\nWeb Site :
X-ALT-DESC;FMTTYPE=text/html:The American Cancer Society Relay for Life unites communities across the globe to celebrate people who have battled cancer\, remember loved ones lost\, and take action to finish the fight once and for all. Today\, with the support of thousands of volunteers like you\, the American Cancer Society is helping save more than 400 lives a day. And we won't stop until we finish the fight against cancer! Please join us!\nContact : 	\nPhone : 	209-914-6166\nEmail : 	\nWeb Site :
LOCATION:Johansen High School 641 Norseman Drive Modesto\,\, CA 95356
UID:e.2695.1640
SEQUENCE:3
DTSTAMP:20260419T125148Z
URL:https://business.modchamber.org/events/details/relay-for-life-of-modesto-05-14-2016-1640
END:VEVENT

END:VCALENDAR
