BEGIN:VCALENDAR
VERSION:2.0
PRODID:-//ChamberMaster//Event Calendar 2.0//EN
METHOD:PUBLISH
X-PUBLISHED-TTL:P3D
REFRESH-INTERVAL:P3D
CALSCALE:GREGORIAN
BEGIN:VEVENT
DTSTART:20160326T000000Z
DTEND:20160326T020000Z
X-MICROSOFT-CDO-ALLDAYEVENT:FALSE
SUMMARY:Redeemer’s Good Friday Walk-Through
DESCRIPTION:The Good Friday walk through is a self-guided tour of the events leading up to the crucifixion of Jesus.\n\nThe walk through takes approximately 20 minutes to complete\, but you are welcome to stay as long as you like.\n\nChildren are welcome.\nContact : 	Redeemer Church\nPhone : 	(209) 523-8990\nEmail : 	\nWeb Site : 	www.redeemermodesto.com
X-ALT-DESC;FMTTYPE=text/html:The Good Friday walk through is a self-guided tour of the events leading up to the crucifixion of Jesus.\n\nThe walk through takes approximately 20 minutes to complete\, but you are welcome to stay as long as you like.\n\nChildren are welcome.\nContact : 	Redeemer Church\nPhone : 	(209) 523-8990\nEmail : 	\nWeb Site : 	www.redeemermodesto.com\n\n
LOCATION:Redeemer Church 820 H Street Modesto\, CA 95354
UID:e.2695.1573
SEQUENCE:3
DTSTAMP:20260419T164131Z
URL:https://business.modchamber.org/events/details/redeemer-s-good-friday-walk-through-03-25-2016-1573
END:VEVENT

END:VCALENDAR
