BEGIN:VCALENDAR
VERSION:2.0
PRODID:-//ChamberMaster//Event Calendar 2.0//EN
METHOD:PUBLISH
X-PUBLISHED-TTL:P3D
REFRESH-INTERVAL:P3D
CALSCALE:GREGORIAN
BEGIN:VEVENT
DTSTART:20160117T230000Z
DTEND:20160118T010000Z
X-MICROSOFT-CDO-ALLDAYEVENT:FALSE
SUMMARY:Red Priest
DESCRIPTION:This British group\, "the other British invasion" consists of recorder\, violin\, cello and piano.  They strive to bring old compositions to life by taking risks with them and to allow audiences to rethink masterpieces to make the experience fun.
X-ALT-DESC;FMTTYPE=text/html:This British group\, "the other British invasion" consists of recorder\, violin\, cello and piano.  They strive to bring old compositions to life by taking risks with them and to allow audiences to rethink masterpieces to make the experience fun.
LOCATION:Gallo Center for the Arts 1000 I Street Modesto\, CA 95351
UID:e.2695.1146
SEQUENCE:3
DTSTAMP:20260419T174445Z
URL:https://business.modchamber.org/events/details/red-priest-01-17-2016-1146
END:VEVENT

END:VCALENDAR
