BEGIN:VCALENDAR
VERSION:2.0
PRODID:-//ChamberMaster//Event Calendar 2.0//EN
METHOD:PUBLISH
X-PUBLISHED-TTL:P3D
REFRESH-INTERVAL:P3D
CALSCALE:GREGORIAN
BEGIN:VEVENT
DTSTART:20140719T150000Z
DTEND:20140719T190000Z
X-MICROSOFT-CDO-ALLDAYEVENT:FALSE
SUMMARY:RECYCLING DAY with Boyett Petroleum
DESCRIPTION:Please join Boyett Petroleum for Recycling Day\, benefiting City of Modesto Parks and Recreation\, Wesson Ranch Park Remodeling Project! Event will be held at Cruisers\, corner of McHenry/Kiernan in Modesto. They will be excepting the following\, On Site Document Shredding\, CRV Bottles/Cans/Plastic/Scrap Metal\, E-Waste\, Toners/Cartridges/Cell Phones.
X-ALT-DESC;FMTTYPE=text/html:Please join Boyett Petroleum for Recycling Day\, benefiting City of Modesto Parks and Recreation\, Wesson Ranch Park Remodeling Project! Event will be held at Cruisers\, corner of McHenry/Kiernan in Modesto. They will be excepting the following\, On Site Document Shredding\, CRV Bottles/Cans/Plastic/Scrap Metal\, E-Waste\, Toners/Cartridges/Cell Phones.
LOCATION:Boyett Petroleum corner of McHenry/Kiernan Modesto\, CA 95356
UID:e.2695.525
SEQUENCE:3
DTSTAMP:20260422T224133Z
URL:https://business.modchamber.org/events/details/recycling-day-with-boyett-petroleum-07-19-2014-525
END:VEVENT

END:VCALENDAR
