BEGIN:VCALENDAR
VERSION:2.0
PRODID:-//ChamberMaster//Event Calendar 2.0//EN
METHOD:PUBLISH
X-PUBLISHED-TTL:P3D
REFRESH-INTERVAL:P3D
CALSCALE:GREGORIAN
BEGIN:VEVENT
DTSTART:20151120T033000Z
DTEND:20151119T080000Z
X-MICROSOFT-CDO-ALLDAYEVENT:FALSE
SUMMARY:RECITAL SERIES #1
DESCRIPTION:Seeking to encourage active participation in the arts in our region\, Townsend Opera is launching a recital series to highlight the many talented singers living and working in our community. Presented in the casual atmosphere of Deva Cafe in downtown Modesto\, these recitals will allow opera patrons to enjoy quality singing in an intimate and personal setting while creating a platform for local artists to perform in our community. Specific artists to be announced at a later date.\nContact :	Gallo Center\nPhone :	209-338-2100\nEmail :	\nWeb Site :	galloarts.org
X-ALT-DESC;FMTTYPE=text/html:Seeking to encourage active participation in the arts in our region\, Townsend Opera is launching a recital series to highlight the many talented singers living and working in our community. Presented in the casual atmosphere of Deva Cafe in downtown Modesto\, these recitals will allow opera patrons to enjoy quality singing in an intimate and personal setting while creating a platform for local artists to perform in our community. Specific artists to be announced at a later date.\nContact :	Gallo Center\nPhone :	209-338-2100\nEmail :	\nWeb Site :	galloarts.org
LOCATION:Gallo Center 1000 I St Modesto\, CA
UID:e.2695.1268
SEQUENCE:3
DTSTAMP:20260419T203515Z
URL:https://business.modchamber.org/events/details/recital-series-1-11-19-2015-1268
END:VEVENT

END:VCALENDAR
