BEGIN:VCALENDAR
VERSION:2.0
PRODID:-//ChamberMaster//Event Calendar 2.0//EN
METHOD:PUBLISH
X-PUBLISHED-TTL:P3D
REFRESH-INTERVAL:P3D
CALSCALE:GREGORIAN
BEGIN:VEVENT
DTSTART:20150926T030000Z
DTEND:20150925T070000Z
X-MICROSOFT-CDO-ALLDAYEVENT:FALSE
SUMMARY:RAMON AYALA
DESCRIPTION:RAMÓN AYALA Y SUS BRAVOS DEL NORTE \nFeaturing Ramón Ayala\, Jr.\n\nThe King of the Accordion returns! Ramón Ayala and his band blew the doors off of the Center last season\, and popular demand is bringing them back. A superstar on both sides of the Rio Grande\, a master accordionist\, vocalist\, and songwriter\, Ayala has had an illustrious career spanning 50 years\, essentially defining norteño music with signature songs and definitive instrumental styling. Along the way he virtually invented modern conjunto music. His many\, many hits include “Un Rinconcito En El Cielo” and “Chaparra de Mi Amor.” Ayala will be joined in this performance by his son\, Ramón Ayala\, Jr.!\nContact :	Gallo Center\nPhone :	209-338-2100\nEmail :	\nWeb Site :	galloarts.org
X-ALT-DESC;FMTTYPE=text/html:RAMÓN AYALA Y SUS BRAVOS DEL NORTE \nFeaturing Ramón Ayala\, Jr.\n\nThe King of the Accordion returns! Ramón Ayala and his band blew the doors off of the Center last season\, and popular demand is bringing them back. A superstar on both sides of the Rio Grande\, a master accordionist\, vocalist\, and songwriter\, Ayala has had an illustrious career spanning 50 years\, essentially defining norteño music with signature songs and definitive instrumental styling. Along the way he virtually invented modern conjunto music. His many\, many hits include “Un Rinconcito En El Cielo” and “Chaparra de Mi Amor.” Ayala will be joined in this performance by his son\, Ramón Ayala\, Jr.!\nContact :	Gallo Center\nPhone :	209-338-2100\nEmail :	\nWeb Site :	galloarts.org
LOCATION:Gallo Center 1000 I St Modesto\, CA 95354
UID:e.2695.1179
SEQUENCE:3
DTSTAMP:20260419T231417Z
URL:https://business.modchamber.org/events/details/ramon-ayala-09-25-2015-1179
END:VEVENT

END:VCALENDAR
