BEGIN:VCALENDAR
VERSION:2.0
PRODID:-//ChamberMaster//Event Calendar 2.0//EN
METHOD:PUBLISH
X-PUBLISHED-TTL:P3D
REFRESH-INTERVAL:P3D
CALSCALE:GREGORIAN
BEGIN:VEVENT
DTSTART:20160523T013000Z
DTEND:20160522T070000Z
X-MICROSOFT-CDO-ALLDAYEVENT:FALSE
SUMMARY:Ramon Ayala
DESCRIPTION:Live in Concert Ramon Ayala\, Bravos del Norte & Rocio la Reina de la cumbia.\n\nRamón Ayala is a Mexican musician\, composer\, and songwriter of Norteño and Conjunto music. Known as the "King of the Accordion"\, Ayala has recorded over 113 albums for which he has received four Grammy Awards.\n\nTickets: $45.00 + $4.75 Service Fee\nContact : 	Fat Cat Music House & Lounge\nPhone : 	209-524-1400\nEmail : 	\nWeb Site : 	www.fatcatmodesto.com
X-ALT-DESC;FMTTYPE=text/html:	Live in Concert Ramon Ayala\, Bravos del Norte & Rocio la Reina de la cumbia.\n\nRamón Ayala is a Mexican musician\, composer\, and songwriter of Norteño and Conjunto music. Known as the "King of the Accordion"\, Ayala has recorded over 113 albums for which he has received four Grammy Awards.\n\nTickets: $45.00 + $4.75 Service Fee\nContact : 	Fat Cat Music House & Lounge\nPhone : 	209-524-1400\nEmail : 	\nWeb Site : 	www.fatcatmodesto.com\n\n
LOCATION:Fat Cat Music House & Lounge 940 11th Street Modesto\, CA 95354
UID:e.2695.1721
SEQUENCE:3
DTSTAMP:20260419T124541Z
URL:https://business.modchamber.org/events/details/ramon-ayala-05-22-2016-1721
END:VEVENT

END:VCALENDAR
