BEGIN:VCALENDAR
VERSION:2.0
PRODID:-//ChamberMaster//Event Calendar 2.0//EN
METHOD:PUBLISH
X-PUBLISHED-TTL:P3D
REFRESH-INTERVAL:P3D
CALSCALE:GREGORIAN
BEGIN:VEVENT
DTSTART:20151017T220000Z
DTEND:20151017T070000Z
X-MICROSOFT-CDO-ALLDAYEVENT:FALSE
SUMMARY:Rabbi Shalom\, Rom\, & Friends
DESCRIPTION:Jewish Jammin’\n\nRabbi Shalom\, CBS’s spiritual leader\, puts on his musician hat and invites you to an afternoon of “Jewish Jamming”: traditional modern Jewish music\, original songs\, and music from his influences\, including Bob Dylan\, Simon and Garfunkel\, and the Grateful Dead. Joining him will be Rom Rosenblum—a fine musician\, sound tech to the stars\, and husband of Rabbi Graudenz’ daughter\, Debby—and a group of their talented friends. This afternoon puts the “F U N” in fun.\nContact :	\nPhone :	209-571-6060\nEmail :	\nWeb Site :	http://sundaysatcbs.com/
X-ALT-DESC;FMTTYPE=text/html:	Jewish Jammin’\n\nRabbi Shalom\, CBS’s spiritual leader\, puts on his musician hat and invites you to an afternoon of “Jewish Jamming”: traditional modern Jewish music\, original songs\, and music from his influences\, including Bob Dylan\, Simon and Garfunkel\, and the Grateful Dead. Joining him will be Rom Rosenblum—a fine musician\, sound tech to the stars\, and husband of Rabbi Graudenz’ daughter\, Debby—and a group of their talented friends. This afternoon puts the “F U N” in fun.\nContact :	\nPhone :	209-571-6060\nEmail :	\nWeb Site :	http://sundaysatcbs.com/
LOCATION:Congregation Beth Shalom 1705 Sherwood Ave Modesto\, CA 95354
UID:e.2695.1169
SEQUENCE:3
DTSTAMP:20260419T214801Z
URL:https://business.modchamber.org/events/details/rabbi-shalom-rom-friends-10-17-2015-1169
END:VEVENT

END:VCALENDAR
