BEGIN:VCALENDAR
VERSION:2.0
PRODID:-//ChamberMaster//Event Calendar 2.0//EN
METHOD:PUBLISH
X-PUBLISHED-TTL:P3D
REFRESH-INTERVAL:P3D
CALSCALE:GREGORIAN
BEGIN:VEVENT
DTSTART:20150912T180000Z
DTEND:20150912T070000Z
X-MICROSOFT-CDO-ALLDAYEVENT:FALSE
SUMMARY:Pride in the Park 2015
DESCRIPTION:The event will feature food\, organized games\, vendors\, a Beer Garden\, DJ music and stage entertainment.\nContact :	MoPride\nPhone :	209-605-6685\nEmail :	\nWeb Site :	www.mopride.org
X-ALT-DESC;FMTTYPE=text/html:The event will feature food\, organized games\, vendors\, a Beer Garden\, DJ music and stage entertainment.\nContact :	MoPride\nPhone :	209-605-6685\nEmail :	\nWeb Site :	www.mopride.org
LOCATION:Graceada Park 401 Needham Ave Modesto\, CA 95354
UID:e.2695.1067
SEQUENCE:3
DTSTAMP:20260419T231639Z
URL:https://business.modchamber.org/events/details/pride-in-the-park-2015-09-12-2015-1067
END:VEVENT

END:VCALENDAR
