BEGIN:VCALENDAR
VERSION:2.0
PRODID:-//ChamberMaster//Event Calendar 2.0//EN
METHOD:PUBLISH
X-PUBLISHED-TTL:P3D
REFRESH-INTERVAL:P3D
CALSCALE:GREGORIAN
BEGIN:VEVENT
DTSTART:20150531T210000Z
DTEND:20150531T070000Z
X-MICROSOFT-CDO-ALLDAYEVENT:FALSE
SUMMARY:Preservation Hall Jazz Band
DESCRIPTION:The Preservation Hall Jazz Band derives its name from Preservation Hall\, the venerable music venue located in the heart of New Orleans’ French Quarter\, founded in 1961. The band has traveled worldwide spreading their mission to nurture and perpetuate the art form of New Orleans Jazz. Whether performing at Carnegie Hall or Lincoln Center\, for British Royalty or the King of Thailand\, this music embodies a joyful\, timeless spirit. Under the auspices of director Ben Jaffe\, Preservation Hall continues with a deep reverence and consciousness of its greatest attributes in the modern day as a venue\, band\, and record label.
X-ALT-DESC;FMTTYPE=text/html:The Preservation Hall Jazz Band derives its name from Preservation Hall\, the venerable music venue located in the heart of New Orleans’ French Quarter\, founded in 1961. The band has traveled worldwide spreading their mission to nurture and perpetuate the art form of New Orleans Jazz. Whether performing at Carnegie Hall or Lincoln Center\, for British Royalty or the King of Thailand\, this music embodies a joyful\, timeless spirit. Under the auspices of director Ben Jaffe\, Preservation Hall continues with a deep reverence and consciousness of its greatest attributes in the modern day as a venue\, band\, and record label.
LOCATION:Gallo Center Of The Arts 1000 I St Modesto\, CA 95354
UID:e.2695.970
SEQUENCE:3
DTSTAMP:20260420T061729Z
URL:https://business.modchamber.org/events/details/preservation-hall-jazz-band-05-31-2015-970
END:VEVENT

END:VCALENDAR
