BEGIN:VCALENDAR
VERSION:2.0
PRODID:-//ChamberMaster//Event Calendar 2.0//EN
METHOD:PUBLISH
X-PUBLISHED-TTL:P3D
REFRESH-INTERVAL:P3D
CALSCALE:GREGORIAN
BEGIN:VEVENT
DTSTART:20160320T210000Z
DTEND:20160320T230000Z
X-MICROSOFT-CDO-ALLDAYEVENT:FALSE
SUMMARY:Posh with a Purpose - Traveling to Success-Boys & Girls Club of Stanislaus County
DESCRIPTION:Charitable Fashion Show benefitting the Boys & Girls Club of Stanislaus County.\n\nLight refreshments and beverages will be served.\nContact :	Carrie Cardoza Bordona\nPhone :	(209) 581-2274\nEmail :	carrie@gocardoza.com\nWeb Site :	www.bgcstanislaus.org
X-ALT-DESC;FMTTYPE=text/html:Charitable Fashion Show benefitting the Boys & Girls Club of Stanislaus County.\n\nLight refreshments and beverages will be served.\nContact :	Carrie Cardoza Bordona\nPhone :	(209) 581-2274\nEmail :	carrie@gocardoza.com\nWeb Site :	www.bgcstanislaus.org
LOCATION:Martin G. Petersen Event Center 720 12th Street Modesto\, CA 95354
UID:e.2695.1544
SEQUENCE:3
DTSTAMP:20260419T154945Z
URL:https://business.modchamber.org/events/details/posh-with-a-purpose-traveling-to-success-boys-girls-club-of-stanislaus-county-03-20-2016-1544
END:VEVENT

END:VCALENDAR
