BEGIN:VCALENDAR
VERSION:2.0
PRODID:-//ChamberMaster//Event Calendar 2.0//EN
METHOD:PUBLISH
X-PUBLISHED-TTL:P3D
REFRESH-INTERVAL:P3D
CALSCALE:GREGORIAN
BEGIN:VEVENT
DTSTART:20151219T220000Z
DTEND:20151219T080000Z
X-MICROSOFT-CDO-ALLDAYEVENT:FALSE
SUMMARY:POSADA NAVIDENA
DESCRIPTION:Compañía Mazatlán Bella Artes de Sacramento\nPOSADA NAVIDEÑA\n\nCelebrate the wonderful folk culture of Mexico in this exhilarating Christmas production! Posada Navideña will transport you south of the border for an uplifting experience presented by Ballet Folklorico de Sacramento under the direction of Dr. Zenón Barrón. From the Tarazcos and Nahuas indigenous rituals of central Mexico and the “callejoneadas” of modern Jalisco to the theatrical “Pastorelas” of the mastermind Miguel Sabido\, you will thrill to the talents of more than 40 dancers and musicians. To truly appreciate the splendor of Christmas in Mexico\, Posada Navideña is a must-see event!\nContact :	Gallo Center\nPhone :	209-338-2100\nEmail :	\nWeb Site :	galloarts.org
X-ALT-DESC;FMTTYPE=text/html:Compañía Mazatlán Bella Artes de Sacramento\nPOSADA NAVIDEÑA\n\nCelebrate the wonderful folk culture of Mexico in this exhilarating Christmas production! Posada Navideña will transport you south of the border for an uplifting experience presented by Ballet Folklorico de Sacramento under the direction of Dr. Zenón Barrón. From the Tarazcos and Nahuas indigenous rituals of central Mexico and the “callejoneadas” of modern Jalisco to the theatrical “Pastorelas” of the mastermind Miguel Sabido\, you will thrill to the talents of more than 40 dancers and musicians. To truly appreciate the splendor of Christmas in Mexico\, Posada Navideña is a must-see event!\nContact :	Gallo Center\nPhone :	209-338-2100\nEmail :	\nWeb Site :	galloarts.org
LOCATION:Gallo Center 1000 I St Modesto\, CA 95354
UID:e.2695.1308
SEQUENCE:3
DTSTAMP:20260419T190610Z
URL:https://business.modchamber.org/events/details/posada-navidena-12-19-2015-1308
END:VEVENT

END:VCALENDAR
