BEGIN:VCALENDAR
VERSION:2.0
PRODID:-//ChamberMaster//Event Calendar 2.0//EN
METHOD:PUBLISH
X-PUBLISHED-TTL:P3D
REFRESH-INTERVAL:P3D
CALSCALE:GREGORIAN
BEGIN:VEVENT
DTSTART:20160520T020000Z
DTEND:20160519T070000Z
X-MICROSOFT-CDO-ALLDAYEVENT:FALSE
SUMMARY:PORTUGUESE KIDS
DESCRIPTION:The Carlos Vieira Foundation\npresents\nThe Portuguese Kids\nComedy for a Cause\n\nEnjoy sketch comedy and improvisations by these gifted performers.\n\nSponsored by 51Fifty.\n\nThe Carlos Vieira Foundation provides educational tools\, medical supplies and services to families who live in Central California that are affected by Autism with our Direct Help Grant Program. We also work with communities to provide healthy\, safe and drug free activities for youth to participate in. Goal: Work with volunteers\, donors\, and other civic organizations to fundraise and expand our programs throughout the entire state of California. Purpose: To ensure that all children our local communities have the tools and services they need to live a healthy\, balanced\, lifestyle where they can grow and flourish.\nContact : 	Gallo Center\nPhone : 	209-338-2100\nEmail : 	\nWeb Site : 	galloarts.org
X-ALT-DESC;FMTTYPE=text/html:The Carlos Vieira Foundation\npresents\nThe Portuguese Kids\nComedy for a Cause\n\nEnjoy sketch comedy and improvisations by these gifted performers.\n\nSponsored by 51Fifty.\n\nThe Carlos Vieira Foundation provides educational tools\, medical supplies and services to families who live in Central California that are affected by Autism with our Direct Help Grant Program. We also work with communities to provide healthy\, safe and drug free activities for youth to participate in. Goal: Work with volunteers\, donors\, and other civic organizations to fundraise and expand our programs throughout the entire state of California. Purpose: To ensure that all children our local communities have the tools and services they need to live a healthy\, balanced\, lifestyle where they can grow and flourish.\nContact : 	Gallo Center\nPhone : 	209-338-2100\nEmail : 	\nWeb Site : 	galloarts.org
LOCATION:Gallo Center 1000 I Street Modesto\, CA 95354
UID:e.2695.1643
SEQUENCE:3
DTSTAMP:20260419T141119Z
URL:https://business.modchamber.org/events/details/portuguese-kids-05-19-2016-1643
END:VEVENT

END:VCALENDAR
