BEGIN:VCALENDAR
VERSION:2.0
PRODID:-//ChamberMaster//Event Calendar 2.0//EN
METHOD:PUBLISH
X-PUBLISHED-TTL:P3D
REFRESH-INTERVAL:P3D
CALSCALE:GREGORIAN
BEGIN:VEVENT
DTSTART:20150627T180000Z
DTEND:20150627T220000Z
X-MICROSOFT-CDO-ALLDAYEVENT:FALSE
SUMMARY:Pool Bash Party
DESCRIPTION:Come join us for an amazing day of partying by the pool!
X-ALT-DESC;FMTTYPE=text/html:Come join us for an amazing day of partying by the pool!
LOCATION:Brenda Athletic Clubs 200 Norwegian Ave Modesto\, CA 95350
UID:e.2695.979
SEQUENCE:3
DTSTAMP:20260420T031512Z
URL:https://business.modchamber.org/events/details/pool-bash-party-06-27-2015-979
END:VEVENT

END:VCALENDAR
