BEGIN:VCALENDAR
VERSION:2.0
PRODID:-//ChamberMaster//Event Calendar 2.0//EN
METHOD:PUBLISH
X-PUBLISHED-TTL:P3D
REFRESH-INTERVAL:P3D
CALSCALE:GREGORIAN
BEGIN:VEVENT
DTSTART:20151202T033000Z
DTEND:20151201T080000Z
X-MICROSOFT-CDO-ALLDAYEVENT:FALSE
SUMMARY:POINT OF GRACE CHRISTMAS SHOW
DESCRIPTION:The women of Point of Grace are now celebrating 20 years together\, and you may ask yourself how a band who has already achieved such monumental success — 27 #1 songs\, 13 Dove awards\, two GRAMMY nominations\, career album sales in excess of 7 million with multiple Platinum and Gold certifications\, and one of the Top 10 best-selling artists in the history of Contemporary Christian Music — presses on? It’s quite simple: They love what they do\, and they love sharing it with their fans. This will be Point of Grace’s third appearance at the Gallo Center. They are expected to be joined by a local choir to be announced.\nContact :	Gallo Center\nPhone :	209-338-2100\nEmail :	\nWeb Site :	galloarts.org
X-ALT-DESC;FMTTYPE=text/html:The women of Point of Grace are now celebrating 20 years together\, and you may ask yourself how a band who has already achieved such monumental success — 27 #1 songs\, 13 Dove awards\, two GRAMMY nominations\, career album sales in excess of 7 million with multiple Platinum and Gold certifications\, and one of the Top 10 best-selling artists in the history of Contemporary Christian Music — presses on? It’s quite simple: They love what they do\, and they love sharing it with their fans. This will be Point of Grace’s third appearance at the Gallo Center. They are expected to be joined by a local choir to be announced.\nContact :	Gallo Center\nPhone :	209-338-2100\nEmail :	\nWeb Site :	galloarts.org
LOCATION:Gallo Center 1000 I St Modesto\, CA 95354
UID:e.2695.1278
SEQUENCE:3
DTSTAMP:20260419T191121Z
URL:https://business.modchamber.org/events/details/point-of-grace-christmas-show-12-01-2015-1278
END:VEVENT

END:VCALENDAR
