BEGIN:VCALENDAR
VERSION:2.0
PRODID:-//ChamberMaster//Event Calendar 2.0//EN
METHOD:PUBLISH
X-PUBLISHED-TTL:P3D
REFRESH-INTERVAL:P3D
CALSCALE:GREGORIAN
BEGIN:VEVENT
DTSTART:20140426T150000Z
DTEND:20140426T200000Z
X-MICROSOFT-CDO-ALLDAYEVENT:FALSE
SUMMARY:Planning to Dig
DESCRIPTION:April marks the beginning of home improvement season and is also recognized as National Safe Digging Month. Pacific Gas and Electric Company (PG&E) reminds you to call 811 before you dig\, plant\, landscape or build. We want to raise awareness of the importance of calling 811 to avoid damage to underground lines\, which can potentially cause injuries\, costly fees\, and inconvenient service outages.
X-ALT-DESC;FMTTYPE=text/html:April marks the beginning of home improvement season and is also recognized as National Safe Digging Month. Pacific Gas and Electric Company (PG&E) reminds you to call 811 before you dig\, plant\, landscape or build. We want to raise awareness of the importance of calling 811 to avoid damage to underground lines\, which can potentially cause injuries\, costly fees\, and inconvenient service outages.
LOCATION:The Home Depot 1617 Carpenter Road Modesto\, CA 95351
UID:e.2695.463
SEQUENCE:3
DTSTAMP:20260423T031943Z
URL:https://business.modchamber.org/events/details/planning-to-dig-04-26-2014-463
END:VEVENT

END:VCALENDAR
