BEGIN:VCALENDAR
VERSION:2.0
PRODID:-//ChamberMaster//Event Calendar 2.0//EN
METHOD:PUBLISH
X-PUBLISHED-TTL:P3D
REFRESH-INTERVAL:P3D
CALSCALE:GREGORIAN
BEGIN:VEVENT
DTSTART:20150604T023000Z
DTEND:20150603T070000Z
X-MICROSOFT-CDO-ALLDAYEVENT:FALSE
SUMMARY:Peter Frampton - SOLD OUT!
DESCRIPTION:One of the most celebrated artists and guitarists in rock history is coming to the Gallo Center! At 16\, Grammy-winner Peter Frampton was the lead singer and guitarist for British band the Herd. At 18\, he co-founded one of the first super groups\, seminal rock act Humble Pie. Frampton’s session work includes collaborations with such legendary artists as George Harrison\, Harry Nilsson\, David Bowie\, Jerry Lee Lewis and Ringo Starr\, among many others. His fifth solo album\, the electrifying “Frampton Comes Alive!\,” is one of the top-selling live records of all time. The latest work from this legend is “Hummingbird in a Box\,” released last year\, which was inspired by the Cincinnati Ballet.\nContact :	Gallo Center\nPhone :	209-338-2100\nEmail :	\nWeb Site :	galloarts.org
X-ALT-DESC;FMTTYPE=text/html:One of the most celebrated artists and guitarists in rock history is coming to the Gallo Center! At 16\, Grammy-winner Peter Frampton was the lead singer and guitarist for British band the Herd. At 18\, he co-founded one of the first super groups\, seminal rock act Humble Pie. Frampton’s session work includes collaborations with such legendary artists as George Harrison\, Harry Nilsson\, David Bowie\, Jerry Lee Lewis and Ringo Starr\, among many others. His fifth solo album\, the electrifying “Frampton Comes Alive!\,” is one of the top-selling live records of all time. The latest work from this legend is “Hummingbird in a Box\,” released last year\, which was inspired by the Cincinnati Ballet.\nContact :	Gallo Center\nPhone :	209-338-2100\nEmail :	\nWeb Site :	galloarts.org
LOCATION:Gallo Center 1000 I St Modesto\, CA 95354
UID:e.2695.963
SEQUENCE:3
DTSTAMP:20260420T045323Z
URL:https://business.modchamber.org/events/details/peter-frampton-sold-out-06-03-2015-963
END:VEVENT

END:VCALENDAR
