BEGIN:VCALENDAR
VERSION:2.0
PRODID:-//ChamberMaster//Event Calendar 2.0//EN
METHOD:PUBLISH
X-PUBLISHED-TTL:P3D
REFRESH-INTERVAL:P3D
CALSCALE:GREGORIAN
BEGIN:VEVENT
DTSTART:20140510T160000Z
DTEND:20140511T000000Z
X-MICROSOFT-CDO-ALLDAYEVENT:FALSE
SUMMARY:Pediatric CPR/First Aid Class near Modesto
DESCRIPTION:The American Heart Association Pediatric First-aid/CPR course is approved by Emergency Medical Services Authority (EMSA) for San Joaquin County child care providers as part of Title 22/AB243. This course is for renewing\, recertification\, or initial students.
X-ALT-DESC;FMTTYPE=text/html:The American Heart Association Pediatric First-aid/CPR course is approved by Emergency Medical Services Authority (EMSA) for San Joaquin County child care providers as part of Title 22/AB243. This course is for renewing\, recertification\, or initial students.
LOCATION:Manteca CPR Classes 620 East Yosemite Avenue Manteca\, CA 95336
UID:e.2695.471
SEQUENCE:3
DTSTAMP:20260423T014602Z
URL:https://business.modchamber.org/events/details/pediatric-cpr-first-aid-class-near-modesto-05-10-2014-471
END:VEVENT

END:VCALENDAR
