BEGIN:VCALENDAR
VERSION:2.0
PRODID:-//ChamberMaster//Event Calendar 2.0//EN
METHOD:PUBLISH
X-PUBLISHED-TTL:P3D
REFRESH-INTERVAL:P3D
CALSCALE:GREGORIAN
BEGIN:VEVENT
DTSTART:20150308T040000Z
DTEND:20150307T080000Z
X-MICROSOFT-CDO-ALLDAYEVENT:FALSE
SUMMARY:Paul Reiser
DESCRIPTION:A seasoned actor\, writer\, producer and stand-up comedian\, Paul Reiser created and co-starred in the critically acclaimed TV series\, “Mad About You.” This year Reiser starred opposite Matt Damon and Michael Douglas in the Steven Soderbergh-directed HBO movie “Behind The Candelabra\," a film that won eleven primetime Emmys. His other films include “Diner\,” “Bye\, Bye Love\,” “The Marrying Man\,” “Aliens\,” “One Night at McCool’s” and “Beverly Hills Cop (1 and 2). Reiser also is the author of three best-selling books\, “Couplehood\,” “Babyhood\,” and “Familyhood.”\nContact :	Gallo Center\nPhone :	209-338-2100\nEmail :	\nWeb Site :	galloarts.org
X-ALT-DESC;FMTTYPE=text/html:	A seasoned actor\, writer\, producer and stand-up comedian\, Paul Reiser created and co-starred in the critically acclaimed TV series\, “Mad About You.” This year Reiser starred opposite Matt Damon and Michael Douglas in the Steven Soderbergh-directed HBO movie “Behind The Candelabra\," a film that won eleven primetime Emmys. His other films include “Diner\,” “Bye\, Bye Love\,” “The Marrying Man\,” “Aliens\,” “One Night at McCool’s” and “Beverly Hills Cop (1 and 2). Reiser also is the author of three best-selling books\, “Couplehood\,” “Babyhood\,” and “Familyhood.”\nContact :	Gallo Center\nPhone :	209-338-2100\nEmail :	\nWeb Site :	galloarts.org
LOCATION:Gallo Center 1000 I Street Modesto\, CA 95354
UID:e.2695.783
SEQUENCE:3
DTSTAMP:20260420T073649Z
URL:https://business.modchamber.org/events/details/paul-reiser-03-07-2015-783
END:VEVENT

END:VCALENDAR
