BEGIN:VCALENDAR
VERSION:2.0
PRODID:-//ChamberMaster//Event Calendar 2.0//EN
METHOD:PUBLISH
X-PUBLISHED-TTL:P3D
REFRESH-INTERVAL:P3D
CALSCALE:GREGORIAN
BEGIN:VEVENT
DTSTART:20160317T013000Z
DTEND:20160316T070000Z
X-MICROSOFT-CDO-ALLDAYEVENT:FALSE
SUMMARY:Participatory Action Research Presentation
DESCRIPTION:Participatory Action Research: The Impact of Complementary Therapy on Quality of Life for Cancer Survivors & Their Caregivers.\n\n6:30pm hors d' oeuvre and dessert reception\n7:00pm presentation of research findings\n8:15pm recognition of Complementary Therapy Champions\n\nRSVP by March 9th to Linda Wood\nContact : 	Linda Wood\nPhone : 	\nEmail : 	woodl@sutterhealth.org\nWeb Site :
X-ALT-DESC;FMTTYPE=text/html:Participatory Action Research: The Impact of Complementary Therapy on Quality of Life for Cancer Survivors & Their Caregivers.\n\n6:30pm hors d' oeuvre and dessert reception\n7:00pm presentation of research findings\n8:15pm recognition of Complementary Therapy Champions\n\nRSVP by March 9th to Linda Wood\nContact : 	Linda Wood\nPhone : 	\nEmail : 	woodl@sutterhealth.org\nWeb Site :
LOCATION:Health Education & Confrence Center 1700 Mchenry Ave\, McHenry Village Modesto\, CA 95350
UID:e.2695.1565
SEQUENCE:3
DTSTAMP:20260419T163934Z
URL:https://business.modchamber.org/events/details/participatory-action-research-presentation-03-16-2016-1565
END:VEVENT

END:VCALENDAR
