BEGIN:VCALENDAR
VERSION:2.0
PRODID:-//ChamberMaster//Event Calendar 2.0//EN
METHOD:PUBLISH
X-PUBLISHED-TTL:P3D
REFRESH-INTERVAL:P3D
CALSCALE:GREGORIAN
BEGIN:VEVENT
DTSTART:20160522T143000Z
DTEND:20160522T183000Z
X-MICROSOFT-CDO-ALLDAYEVENT:FALSE
SUMMARY:Pancake Breakfast
DESCRIPTION:Since 1953
X-ALT-DESC;FMTTYPE=text/html:Since 1953
LOCATION:Seasons Lounge 945 McHenry Ave Modesto\, CA
UID:e.2695.1678
SEQUENCE:3
DTSTAMP:20260419T140714Z
URL:https://business.modchamber.org/events/details/pancake-breakfast-05-22-2016-1678
END:VEVENT

END:VCALENDAR
