BEGIN:VCALENDAR
VERSION:2.0
PRODID:-//ChamberMaster//Event Calendar 2.0//EN
METHOD:PUBLISH
X-PUBLISHED-TTL:P3D
REFRESH-INTERVAL:P3D
CALSCALE:GREGORIAN
BEGIN:VEVENT
DTSTART:20151218T030000Z
DTEND:20151217T080000Z
X-MICROSOFT-CDO-ALLDAYEVENT:FALSE
SUMMARY:Opus Handbell Ensemble
DESCRIPTION:Richard J. Colla\, Artistic Director\nSponsored in remembrance of Bette Belle Smith\n\nThe holidays are all the more delightful when you include Opus Handbell Ensemble in your entertainment plans! This advanced community handbell choir has been performing their extraordinarily beautiful music in the Modesto area since 1992\, and their show at the Gallo Center is a new Christmas tradition. They play a highly unique instrument requiring precision eye-hand coordination\, music reading ability and great teamwork. Their musical range stretches from Bach to Heavy Metal to Rock n’ Roll\, and of course their enchanting holiday repertoire.\nContact :	Gallo Center\nPhone :	209-338-2100\nEmail :	\nWeb Site :	galloarts.org
X-ALT-DESC;FMTTYPE=text/html:Richard J. Colla\, Artistic Director\nSponsored in remembrance of Bette Belle Smith\n\nThe holidays are all the more delightful when you include Opus Handbell Ensemble in your entertainment plans! This advanced community handbell choir has been performing their extraordinarily beautiful music in the Modesto area since 1992\, and their show at the Gallo Center is a new Christmas tradition. They play a highly unique instrument requiring precision eye-hand coordination\, music reading ability and great teamwork. Their musical range stretches from Bach to Heavy Metal to Rock n’ Roll\, and of course their enchanting holiday repertoire.\nContact :	Gallo Center\nPhone :	209-338-2100\nEmail :	\nWeb Site :	galloarts.org
LOCATION:Gallo Center 1000 I St Modesto\, CA 95354
UID:e.2695.1311
SEQUENCE:3
DTSTAMP:20260419T202250Z
URL:https://business.modchamber.org/events/details/opus-handbell-ensemble-12-17-2015-1311
END:VEVENT

END:VCALENDAR
