BEGIN:VCALENDAR
VERSION:2.0
PRODID:-//ChamberMaster//Event Calendar 2.0//EN
METHOD:PUBLISH
X-PUBLISHED-TTL:P3D
REFRESH-INTERVAL:P3D
CALSCALE:GREGORIAN
BEGIN:VEVENT
DTSTART:20151018T023000Z
DTEND:20151017T070000Z
X-MICROSOFT-CDO-ALLDAYEVENT:FALSE
SUMMARY:Opera Remix: Music & Verse Event
DESCRIPTION:pera Remix: Music   performance at 7:30 p.m.\;\n9:30 Open-mic After Party \nTickets: General Admission - $10.00\nContact :	State Theatre\nPhone :	BOX OFFICE (209) 527-4697\nEmail :	\nWeb Site :	thestate.org
X-ALT-DESC;FMTTYPE=text/html:pera Remix: Music & Verse is a unique live performance combining opera and slam poetry featuring the Central Valley premiere of Philip Glass’ chamber opera Hydrogen Jukebox and performances of original poetry by Modesto-based poets. An artistic initiative funded by The James Irvine Foundation\, Opera Remix was developed in response to increasing data collected by major research institutions on the decline of public engagement with arts institutions in the U.S. With significant evidence showing a dramatic increase in engagement in the arts\, but a dramatic decrease in attendance at the events of arts institutions\, particularly among younger generations\, the Opera RemixInitiative experiments with how the traditional art form of opera can engage with an evolving American culture. Reserved Seating ( $25) and All Access Passes ($75) are available through Townsend Opera at 209- 209.523.6426. \n\nDoors at 6:30\; performance at 7:30 p.m.\;\n9:30 Open-mic After Party \nTickets: General Admission - $10.00\nContact :	State Theatre\nPhone :	BOX OFFICE (209) 527-4697\nEmail :	\nWeb Site :	thestate.org\n
LOCATION:State Theatre 1307 J St Modesto\, CA 95354
UID:e.2695.1231
SEQUENCE:3
DTSTAMP:20260419T214611Z
URL:https://business.modchamber.org/events/details/opera-remix-music-verse-event-10-17-2015-1231
END:VEVENT

END:VCALENDAR
