BEGIN:VCALENDAR
VERSION:2.0
PRODID:-//ChamberMaster//Event Calendar 2.0//EN
METHOD:PUBLISH
X-PUBLISHED-TTL:P3D
REFRESH-INTERVAL:P3D
CALSCALE:GREGORIAN
BEGIN:VEVENT
DTSTART:20160516T010000Z
DTEND:20160516T040000Z
X-MICROSOFT-CDO-ALLDAYEVENT:FALSE
SUMMARY:One Table Community Dinner
DESCRIPTION:Pull up a chair for change on May 15th  at One Table Community Dinner presented by United Way of Stanislaus County and Datapath.  Hundreds of community members will gather for Sunday dinner at one long table stretched down 15th street between Jst & K st.. This unique alfresco dining experience brings the guests together to benefit education in our community all while enjoying a menu prepared by the area’s best chefs. Event proceeds help to fund Graduation Coach\, a program led by United Way in partnership with Center for Human Services\, focused on raising the graduation rate for at risk students in Stanislaus County. Tickets are available at onetablemodesto.com
X-ALT-DESC;FMTTYPE=text/html:Pull up a chair for change on May 15th  at One Table Community Dinner presented by United Way of Stanislaus County and Datapath.  Hundreds of community members will gather for Sunday dinner at one long table stretched down 15th street between Jst & K st.. This unique alfresco dining experience brings the guests together to benefit education in our community all while enjoying a menu prepared by the area’s best chefs. Event proceeds help to fund Graduation Coach\, a program led by United Way in partnership with Center for Human Services\, focused on raising the graduation rate for at risk students in Stanislaus County. Tickets are available at onetablemodesto.com
LOCATION:15th Street between J St & K St Modesto\, CA 95354
UID:e.2695.1597
SEQUENCE:3
DTSTAMP:20260419T124523Z
URL:https://business.modchamber.org/events/details/one-table-community-dinner-05-15-2016-1597
END:VEVENT

END:VCALENDAR
