BEGIN:VCALENDAR
VERSION:2.0
PRODID:-//ChamberMaster//Event Calendar 2.0//EN
METHOD:PUBLISH
X-PUBLISHED-TTL:P3D
REFRESH-INTERVAL:P3D
CALSCALE:GREGORIAN
BEGIN:VEVENT
DTSTART:20150502T020000Z
DTEND:20150501T070000Z
X-MICROSOFT-CDO-ALLDAYEVENT:FALSE
SUMMARY:One Eyed Doll live at at the Fat Cat
DESCRIPTION:Chris Ricci Presents and Jill Ferris are proud to announce One Eyed Doll live at the Fat Cat Music House and Lounge on May 1st.\nDoors open at 6PM Show begins at 7PM\n\n21 and over only with ID\nContact :	Fat Cat Music House & Lounge\nPhone :	209-312-3463
X-ALT-DESC;FMTTYPE=text/html:Chris Ricci Presents and Jill Ferris are proud to announce One Eyed Doll live at the Fat Cat Music House and Lounge on May 1st.\nDoors open at 6PM Show begins at 7PM\n\n21 and over only with ID\nContact :	Fat Cat Music House & Lounge\nPhone :	209-312-3463
LOCATION:Fat Cat Music House & Lounge 930 11th St Modesto\, CA 95354
UID:e.2695.906
SEQUENCE:3
DTSTAMP:20260420T045802Z
URL:https://business.modchamber.org/events/details/one-eyed-doll-live-at-at-the-fat-cat-05-01-2015-906
END:VEVENT

END:VCALENDAR
